BEGIN:VCALENDAR
VERSION:2.0
PRODID:-//Veranstaltungen Krefeld - ECPv6.6.0.2//NONSGML v1.0//EN
CALSCALE:GREGORIAN
METHOD:PUBLISH
X-ORIGINAL-URL:https://veranstaltung.krefeld651.de
X-WR-CALDESC:Veranstaltungen für Veranstaltungen Krefeld
REFRESH-INTERVAL;VALUE=DURATION:PT1H
X-Robots-Tag:noindex
X-PUBLISHED-TTL:PT1H
BEGIN:VTIMEZONE
TZID:Europe/Berlin
BEGIN:DAYLIGHT
TZOFFSETFROM:+0100
TZOFFSETTO:+0200
TZNAME:CEST
DTSTART:20240331T010000
END:DAYLIGHT
BEGIN:STANDARD
TZOFFSETFROM:+0200
TZOFFSETTO:+0100
TZNAME:CET
DTSTART:20241027T010000
END:STANDARD
BEGIN:DAYLIGHT
TZOFFSETFROM:+0100
TZOFFSETTO:+0200
TZNAME:CEST
DTSTART:20250330T010000
END:DAYLIGHT
BEGIN:STANDARD
TZOFFSETFROM:+0200
TZOFFSETTO:+0100
TZNAME:CET
DTSTART:20251026T010000
END:STANDARD
END:VTIMEZONE
BEGIN:VEVENT
DTSTART;TZID=Europe/Berlin:20241006T113000
DTEND;TZID=Europe/Berlin:20250209T170000
DTSTAMP:20260419T160059
CREATED:20240808T083411Z
LAST-MODIFIED:20240808T083411Z
UID:10002569-1728214200-1739120400@veranstaltung.krefeld651.de
SUMMARY:Marion Baruch. Soziales Gewebe
DESCRIPTION:Marion Baruch. Soziales Gewebe\nHL HE Dialog – Der menschliche Maßstab \n6. Oktober 2024–9. Februar 2025\nHaus Lange\nEröffnung: 6. Oktober\, 11.30 Uhr \nMarion Baruch (*1929 Timişoara\, Rumänien\, lebt in Gallarate\, Italien) und ihr vielschichtiges\, über Jahrzehnte gewachsenes Werk erfahren seit einigen Jahren eine längst überfällige Würdigung. Baruchs Interesse gilt dem Verhältnis zwischen Innen und Außen\, Körper und Raum\, Subjekt und System. Aktuell arbeitet sie mit Verschnittabfällen aus der Modeindustrie und spielt mit dem abwesenden Körper und dem Normativen. Transparenz\, Auslassungen\, Leere sind zentrale Merkmale ihrer Skulpturen\, Installationen und Aktionen. Die Präsentation in Haus Lange – ein Ort\, der wesentliche Eigenschaften der Arbeit von Baruch bereits in sich trägt – ist ihre erste institutionelle Einzelausstellung im Rheinland. Die Kunstmuseen Krefeld würdigen damit eine der wichtigen weiblichen Positionen\, die ihre Wurzeln in den 1960er Jahren hat.\nParallel zeigt der Neue Aachener Kunstverein eine Ausstellung mit jüngsten Arbeiten von Marion Baruch. \nKuratorin: Magdalena Holzhey \nSeit 2017 konzipieren die Kunstmuseen Krefeld in den benachbarten Villen Haus Lange Haus Esters Ausstellungen\, die miteinander in Dialog treten – zwischen Kunst und Design\, zwischen den Generationen oder zwischen Themen und verwandten Inhalten. In dieser Reihe treffen nun mit Marion Baruch und Anna K.E. zwei Künstler:innen aufeinander\, die zwei Generationen voneinander trennt\, deren Ansätze aber durch ähnliche Themen verbunden sind – darunter performative und partizipative Elemente und die spielerische Verknüpfung von Kunst und Design. Beide arbeiten dabei mit dem menschlichen Körper als Vermessungsinstrument und emotionalem Impulsgeber.
URL:https://veranstaltung.krefeld651.de/event/marion-baruch-soziales-gewebe/
LOCATION:Haus Lange\, Kunstmuseen Krefeld\, Wilhelmshofallee 91–97\, Krefeld\, NRW\, 47800\, Deutschland
CATEGORIES:Ausstellung,Bildung,Führung,Für Kinder,Kunst,Workshop
ATTACH;FMTTYPE=image/jpeg:https://veranstaltung.krefeld651.de/wp-content/uploads/2024/08/Marion-Baruch-Porta_aesaggio-scaled-M9MUY0.tmp_.jpg
ORGANIZER;CN="Kunstmuseen Krefeld":MAILTO:servicekunstmuseen@krefeld.de
END:VEVENT
BEGIN:VEVENT
DTSTART;TZID=Europe/Berlin:20241006T113000
DTEND;TZID=Europe/Berlin:20250209T170000
DTSTAMP:20260419T160059
CREATED:20240808T084617Z
LAST-MODIFIED:20240808T084617Z
UID:10002571-1728214200-1739120400@veranstaltung.krefeld651.de
SUMMARY:Anna K.E. Für unsere Eltern
DESCRIPTION:Anna K.E. Für unsere Eltern\nHLHE Dialog – Der menschliche Maßstab\n\n6. Oktober 2024–9. Februar 2025\nHaus Esters\n\nEröffnung: 6. Oktober\, 11.30 Uhr \nAnna K.E. (*1986 in Tiflis\, Georgien\, lebt in New York\, USA) entwickelt architektonische Konstruktionen\, Settings und skulpturale Modelle wie sie auch spontan eigene Aktionen filmisch festhält\, um der Relation zwischen subjektivem Körper und sozialem Umraum nachzuspüren. Die moderne Architektur des frühen 20. Jahrhunderts spielt stets eine zentrale Rolle in ihrem Werk. Spielerisch und anarchisch zugleich durchbricht Anna K.E. Normen und festgelegte soziale Gefüge. Mit ihren Arbeiten thematisiert sie das menschliche Maß in einer von Haltlosigkeit und Freiheit gleichermaßen geprägten Umwelt. Für die Ausstellung in Haus Esters entwickelt Anna K.E. eine auf den Ort bezogene Gesamtinstallation mit neuen Arbeiten. Nach ihrem Studium an der Kunstakademie Düsseldorf erhielt Anna K.E. zahlreiche internationale Preise und Ausstellungen und bespielte 2019 den georgischen Pavillon auf der Biennale in Venedig. \nKuratorin: Sylvia Martin \nSeit 2017 konzipieren die Kunstmuseen Krefeld in den benachbarten Villen Haus Lange Haus Esters Ausstellungen\, die miteinander in Dialog treten – zwischen Kunst und Design\, zwischen den Generationen oder zwischen Themen und verwandten Inhalten. In dieser Reihe treffen nun mit Marion Baruch und Anna K.E. zwei Künstler:innen aufeinander\, die zwei Generationen voneinander trennt\, deren Ansätze aber durch ähnliche Themen verbunden sind – darunter performative und partizipative Elemente und die spielerische Verknüpfung von Kunst und Design. Beide arbeiten dabei mit dem menschlichen Körper als Vermessungsinstrument und emotionalem Impulsgeber.
URL:https://veranstaltung.krefeld651.de/event/anna-k-e-fuer-unsere-eltern/
LOCATION:Haus Esters\, Kunstmuseen Krefeld\, Wilhelmshofallee 91–97\, Krefeld\, NRW\, 47800\, Deutschland
CATEGORIES:Ausstellung,Bildung,Führung,Kunst
ATTACH;FMTTYPE=image/jpeg:https://veranstaltung.krefeld651.de/wp-content/uploads/2024/08/Anna-K.E.-Mandala_Tranquil_Gaze_Detail-scaled-sx5Qnz.tmp_.jpg
ORGANIZER;CN="Kunstmuseen Krefeld":MAILTO:servicekunstmuseen@krefeld.de
END:VEVENT
BEGIN:VEVENT
DTSTART;TZID=Europe/Berlin:20241121T190000
DTEND;TZID=Europe/Berlin:20250330T170000
DTSTAMP:20260419T160059
CREATED:20240808T090755Z
LAST-MODIFIED:20240808T090755Z
UID:10002570-1732215600-1743354000@veranstaltung.krefeld651.de
SUMMARY:Visionäre Räume. Walter Pichler trifft Friedrich Kiesler in einem Display von raumlaborberlin
DESCRIPTION:Visionäre Räume. Walter Pichler trifft Friedrich Kiesler in einem Display von raumlaborberlin\n\n22. Nov. 2024–30. Mär. 2025\nKaiser Wilhelm Museum\n\nEröffnung: 21. November\, 19 Uhr \nDas Ausstellungsprojekt Visionäre Räume wird zwei bedeutende Avantgardisten unterschiedlicher Generationen\, Friedrich Kiesler (1890-1965) und Walter Pichler (1936-2012)\, präsentieren. \nDer austroamerikanische Architekt Kiesler\, der sich nach seinen bahnbrechenden Ausstellungsdisplays und Architekturvisionen der 1920er-Jahre vermehrt der Skulptur zuwandte\, trifft auf den österreichischen Bildhauer Pichler. Dieser setzte in den frühen 1960er-Jahren mit seinen als alternative Wohnräume deklarierten Plastiken maßgebliche und international rezipierte Impulse. Beide begannen als Pioniere früh\, herkömmliche Bauweisen in Frage zu stellen und dazu experimentell Alternativen zu entwickeln: biomorphe\, skulpturale Architekturen oder architektonische Skulpturen. Das interdisziplinäre Kollektiv raumlaborberlin übernimmt die künstlerisch-architektonische Gestaltung und realisiert ein Display\, das es ermöglicht\, diese utopischen Projekte aus heutiger Perspektive zu betrachten. Mit ca. 120 internationalen Leihgaben\, darunter nie gezeigte Archivalien und Objekten\, werden sechs thematische Stationen sowohl zentrale inhaltliche als auch formale Phänomene vergleichend vorstellen.\nDie Schau\, die sich an ein breites kunst- und architekturinteressiertes Publikum richtet\, bietet in Deutschland den ersten umfassenden Überblick über das Schaffen von Walter Pichler seit 1987. Auch die Arbeit Friedrich Kieslers wird erstmals umfassend in Nordrhein-Westfalen und der Region BENELUX präsentiert. \nVisionäre Räume. Walter Pichler trifft Friedrich Kiesler\, eine Ausstellung des Belvedere\, Wien\, in Zusammenarbeit mit den Kunstmuseen Krefeld\, wird in Wien kuratiert von Verena Gamper sowie in Krefeld von Michael Krajewski.
URL:https://veranstaltung.krefeld651.de/event/visionaere-raeume-walter-pichler-trifft-friedrich-kiesler-in-einem-display-von-raumlaborberlin/
LOCATION:Kaiser Wilhelm Museum\, Kunstmuseen Krefeld\, Joseph-Beuys-Platz 1\, Krefeld\, NRW\, 47798\, Deutschland
CATEGORIES:Ausstellung,Bildung,Führung,Kunst
ATTACH;FMTTYPE=image/jpeg:https://veranstaltung.krefeld651.de/wp-content/uploads/2024/08/pichler_GF0002240_20-1-scaled-mLNDz2.tmp_.jpg
ORGANIZER;CN="Kunstmuseen Krefeld":MAILTO:servicekunstmuseen@krefeld.de
END:VEVENT
BEGIN:VEVENT
DTSTART;TZID=Europe/Berlin:20250117T200000
DTEND;TZID=Europe/Berlin:20250216T160000
DTSTAMP:20260419T160059
CREATED:20241209T151052Z
LAST-MODIFIED:20241209T151052Z
UID:10003515-1737144000-1739721600@veranstaltung.krefeld651.de
SUMMARY:Pausenhof wo.anders
DESCRIPTION:Inken Horn\nChristine Prause\nBarbara Freundlieb\nFrank Bernemann\nHans-Jörg Buschmeier\nPeter Schmitz\nund Claudia Reich\n\n\nsind die Ateliergemeinschaft PAUSENHOF und Anfang kommenden Jahres zu Gast in der Gemeinschaft Krefelder Künstlerinnen und Künstler e.V.\n\nDort zeigen wir neue Arbeiten aus den Bereichen Malerei\, Zeichnung und Installation.
URL:https://veranstaltung.krefeld651.de/event/pausenhof-wo-anders-2/
LOCATION:Gemeinschaft Krefelder Künstlerinnen und Künstler e.V.\, Sankt-Anton-Straße 90\, 47798 Krefeld\, 47798\, Deutschland
CATEGORIES:Ausstellung,Kunst
ATTACH;FMTTYPE=image/jpeg:https://veranstaltung.krefeld651.de/wp-content/uploads/2024/12/2024-PH-soziale-Medien.jpg
ORGANIZER;CN="Pausenhof Krefeld":MAILTO:grafik@eis-diele.de
END:VEVENT
BEGIN:VEVENT
DTSTART;TZID=Europe/Berlin:20250125T110000
DTEND;TZID=Europe/Berlin:20250125T140000
DTSTAMP:20260419T160059
CREATED:20250107T143407Z
LAST-MODIFIED:20250107T143407Z
UID:10003907-1737802800-1737813600@veranstaltung.krefeld651.de
SUMMARY:Museumsspaß. Bunte Mandalas und Muster
DESCRIPTION:In diesem Workshop tauchen wir gemeinsam in die Welt der Farbe und Muster der Künstlerin Anna K.E. ein! Spielerisch gestalten wir unsere eigenen Mandalas aus Naturmaterialien und probieren dabei neue Techniken aus. Wir experimentieren mit verschiedenen Farben und schaffen unsere eigenen Kunstwerke. Gemeinsam entdecken wir die spannende Welt der Formen und Farben und haben dabei Spaß! \nFür Kinder ab 5 Jahren
URL:https://veranstaltung.krefeld651.de/event/museumsspass-bunte-mandalas-und-muster/
LOCATION:Haus Lange Haus Esters\, Wilhelmshofallee 91-97\, 47800 Krefeld\, Krefeld-Bockum\, NRW\, 47800\, Deutschland
CATEGORIES:Für Kinder,Kunst
ORGANIZER;CN="Kunstmuseen Krefeld":MAILTO:servicekunstmuseen@krefeld.de
END:VEVENT
BEGIN:VEVENT
DTSTART;TZID=Europe/Berlin:20250125T170000
DTEND;TZID=Europe/Berlin:20250125T200000
DTSTAMP:20260419T160059
CREATED:20240912T082120Z
LAST-MODIFIED:20240912T082120Z
UID:10002784-1737824400-1737835200@veranstaltung.krefeld651.de
SUMMARY:Weinprobe “Toscana & Gardasee” | Sa\, 25. Jan. 2025
DESCRIPTION:Ein Abend der Erinnerung. Wo warst du im Sommer 2024?? Die Wahrscheinlickeit ist groß\, dass du Weine wie Bardolino\, Sangiovese\, Vermentino oder Lugana im letzten Italienurlaub getrunken hast. \nMöchtest du ein Stück Sommer und ein wenig dolce vita in den kalten Januar holen? Dann bist du hier genau richtig! \nNach der Weinprobe bleibt noch genug Zeit ein paar „letzte Runden“ zu bestellen. 😉 \nInkl.: Aperitif\, 6 Weine (0\,1l!)\, Wasser/Brot\, Antipasti\, Flammkuchen\nPreis: p. P. € 65.-\nDauer: 17 – 20 Uhr (ca. 3 Stunden)\n! ACHTUNG ! An diesem Tag beginnen wir bereits um 17 Uhr! \nTickets könnt ihr auch gleich hier online buchen! \nPS.: Wir bevorzugen Zahlung per Vorkasse 😉 Danke. \nAnmeldung erforderlich!\nW’App +491773322864\nTel +492151572529\nMail: fabian@wein-krefeld.de
URL:https://veranstaltung.krefeld651.de/event/weinprobe-toscana-gardasee-sa-25-jan-2025/
LOCATION:de Cassan weinhandel & weinbar\, Niederstraße 63-67\, Krefeld\, 47829\, Deutschland
CATEGORIES:Essen&Trinken
ATTACH;FMTTYPE=image/jpeg:https://veranstaltung.krefeld651.de/wp-content/uploads/2024/09/17.10.23_decassan-weinprobe_2-00240-5G7RdL.tmp_.jpg
ORGANIZER;CN="Fabian de Cassan":MAILTO:fabian@wein-krefeld.de
END:VEVENT
BEGIN:VEVENT
DTSTART;TZID=Europe/Berlin:20250125T210000
DTEND;TZID=Europe/Berlin:20250126T033000
DTSTAMP:20260419T160059
CREATED:20250123T133922Z
LAST-MODIFIED:20250123T133922Z
UID:10003944-1737838800-1737862200@veranstaltung.krefeld651.de
SUMMARY:Hückelsmayparty - 80s and 90s Special
DESCRIPTION:Achtziger-Neunziger-Party im Landgut Hückels May! \nWir starten ins neue Jahr mit einer Zeitreise der Extraklasse! Holt eure Buffalos raus\, denn am 25.01.2025 feiern wir in der kultigen Scheune des Landgut Hückels May eine 80er & 90er Party\, die es in sich hat! \nFreut euch auf die besten Hits\, wilde Tanzmoves und eine Atmosphäre\, wie wir sie lieben. Wir haben MEGA BOCK auf euch und lassen im Januar noch mal richtig die Scheune beben!\n\n Wo? Landgut Hückels May Wann? 25.01.2025 ab 21 Uhr – Open End  Eintritt: 10€\n\nKommt vorbei\, bringt eure Freunde mit und lasst uns zusammen richtig Gas geben!  Wir freuen uns auf euch!  Mit wem kommst Du?\nDJ´s: Mr. Barfly und Mr. Cox
URL:https://veranstaltung.krefeld651.de/event/hueckelsmayparty-80s-and-90s-special/
LOCATION:Landgut Hückelsmay\, Hückelsmaystr. 70\, Krefeld\, 47804\, Deutschland
CATEGORIES:Party,Tanz,Tanzabend
ATTACH;FMTTYPE=image/png:https://veranstaltung.krefeld651.de/wp-content/uploads/2025/01/Facebook-Event-4.png
ORGANIZER;CN="Felix Reese":MAILTO:info@hueckels-may.de
END:VEVENT
END:VCALENDAR