BEGIN:VCALENDAR
VERSION:2.0
PRODID:-//Veranstaltungen Krefeld - ECPv6.6.0.2//NONSGML v1.0//EN
CALSCALE:GREGORIAN
METHOD:PUBLISH
X-WR-CALNAME:Veranstaltungen Krefeld
X-ORIGINAL-URL:https://veranstaltung.krefeld651.de
X-WR-CALDESC:Veranstaltungen für Veranstaltungen Krefeld
REFRESH-INTERVAL;VALUE=DURATION:PT1H
X-Robots-Tag:noindex
X-PUBLISHED-TTL:PT1H
BEGIN:VTIMEZONE
TZID:Europe/Berlin
BEGIN:DAYLIGHT
TZOFFSETFROM:+0100
TZOFFSETTO:+0200
TZNAME:CEST
DTSTART:20250330T010000
END:DAYLIGHT
BEGIN:STANDARD
TZOFFSETFROM:+0200
TZOFFSETTO:+0100
TZNAME:CET
DTSTART:20251026T010000
END:STANDARD
END:VTIMEZONE
BEGIN:VEVENT
DTSTART;TZID=Europe/Berlin:20251104T150000
DTEND;TZID=Europe/Berlin:20251128T180000
DTSTAMP:20260422T143541
CREATED:20251027T091451Z
LAST-MODIFIED:20251027T091451Z
UID:10006415-1762268400-1764352800@veranstaltung.krefeld651.de
SUMMARY:Nihil novi: Anthropogene Landschaften des Alltags in Polen - Tomasz Lewandowski (2019–ongoing) - Ausstellung
DESCRIPTION:Seit einigen Jahren dokumentiert Tomasz Lewandowski die Auswirkungen des Anthropozäns auf die Landschaft der Alltagsräume in Polen. Die von ihm untersuchten Orte befinden sich außerhalb der restaurierten Zentren der Großstädte und bleiben oft von der Gesellschaft quasi unbemerkt. Ihre angebliche Anonymität beruht darauf\, dass sie der natürliche Lebensraum von Millionen Menschen sind. Obwohl sie den allgemein anerkannten Charakter von Städten und Regionen in der Logik der Wahrnehmung nicht prägen\, sind sie der wichtigste Hintergrund für das alltägliche Leben sowie Kulisse für die dort sich abspielenden sozialen und politischen Prozesse. Daher erzählen diese Orte uns auf authentische Weise mehr über die mentale Verfassung der Gesellschaft\, die sie bewohnt. Denn Alltagsräume werden direkt von ihren Bewohnern gestaltet\, oft unbewusst und ungeachtet offizieller Entwicklungspläne und herrschender Kanons. Diese auf individueller Initiative basierende Gestaltung der eigenen Umgebung „von unten nach oben“ führt zu ihrer Fragmentierung und erinnert uns zugleich in gewisser Weise an die ursprüngliche Natur der menschlichen Lebensräume zum Beginn der Zivilisation. \nBei der Arbeit an seiner Dokumentation kombiniert Tomasz Lewandowski Bilder von anthropogenen Landschaftsmotiven mit zufällig entstandenen Porträts. Auf diese Weise werden die auf den Fotografien gezeigten Räume personifiziert und wirken nicht länger wie anonyme Kulissen. Die Porträts betonen zudem die Rolle des Anthropozäns in unserer Wahrnehmung des auf einer Fotografie abgebildeten Ausschnitts der Realität. \nThomasz Lewandowski (Fotografie) nutzt verschiedene\, fotografische Techniken\, um den Mikrokosmos vordefinierter Orte zu reflektieren. Thomasz Lewandowski lebt in Görlitz\, arbeitet grenzübergreifend gleichermaßen in Deutschland und in Polen.\nFür die Serie Nihil novi wurden Motive mit einer Plattenkamera auf großformatige Schwarz-Weiß-Negative aufgenommen\, die anschließend digitalisiert wurden.
URL:https://veranstaltung.krefeld651.de/event/nihil-novi-anthropogene-landschaften-des-alltags-in-polen-tomasz-lewandowski-2019-ongoing-ausstellung/
LOCATION:Südbahnhof\, Saumstr.9\, Krefeld\, NRW\, 47805\, Deutschland
ATTACH;FMTTYPE=image/jpeg:https://veranstaltung.krefeld651.de/wp-content/uploads/2025/10/Nihil-novi-LEGNICA_NOWA_2020-1.jpg
ORGANIZER;CN="Werkhaus e.V.":MAILTO:info@werkhaus-krefeld.de
END:VEVENT
BEGIN:VEVENT
DTSTART;TZID=Europe/Berlin:20251107T160000
DTEND;TZID=Europe/Berlin:20251107T170000
DTSTAMP:20260422T143541
CREATED:20251029T075715Z
LAST-MODIFIED:20251029T075715Z
UID:10006732-1762531200-1762534800@veranstaltung.krefeld651.de
SUMMARY:Barber‘s Puppentheater für Kinder gastiert vom 2. - 10.11.2025 in Krefeld
DESCRIPTION:Mit farbenprächtigen Figuren und Bühnenbildern ist Barber‘s Puppentheater für Kinder und deren Familien seit vielen Jahren auf Tournee und begeistert mit außergewöhnlichen Puppenspielen. Die bezaubernden Stockhandpuppen gewinnen während des Spiels an Lebhaftigkeit\, ziehen Klein und Groß in ihren Bann und lassen die Umwelt vergessen. Geeignet für Kinder und Junggebliebene ab 2 Jahren. \nWO:\nTheaterzelt\nSprödentalplatz\n47799 Krefeld \nWANN und WAS:\n2. – 10.11.2025\n(Di. + Mi. keine Vorstellung) \nDas NEINhorn\nMo. 16:00 Uhr / Sa. + So. 11:00 Uhr \nDas Puppenspiel zum Kinderbuch von Marc Uwe Kling und Astrid Henn\nIm Herzwald kommt ein schnickeldischnuckeliges Einhorn zur Welt. Alle sind ganz lilalieb zu ihm und füttern es ständig mit gezuckertem Glücksklee\, aber das Tierchen benimmt sich trotzdem ganz und gar nicht einhornmäßig! Es sagt einfach immer „Nein“\, so dass seine Familie es bald nur noch NEINhorn nennt. \nEines Tages bricht das NEINhorn aus seiner Zuckerwattewelt aus. Es trifft einen Waschbären\, der nicht zuhören will\, einen Hund\, dem echt alles schnuppe ist und eine Prinzessin\, die immer Widerworte gibt. Die vier sind ein ziemlich gutes Team. Denn sogar bockig sein macht zusammen viel mehr Spaß! \nDer kleine Rabe Socke\nDo. + Fr. 16:00 Uhr / Sa. + So. 15:00 Uhr \nNach dem Kinderbuch von Nele Moost und Annet Rudolph\nDer freche Rabe kommt in eure Stadt. In den Geschichten „Alles Gemerkt“ und „Alles Mutig“ geht es lustig\, spannend und zugleich lehrreich zu. Socke hat auch gleich eine Menge Freunde mitgebracht: Eddi Bär – Hase Löffel – das Schaf Wolle – der Dachs sowie Frau Eule und viele andere mehr… SCHAU EINFACH REIN! \nEINTRITTSPREIS:\nTicket 12 € / pro Person – ausschließlich an der Theaterkasse erhältlich.\nBei Vorlage eines Ermäßigungsgutscheins\, eines Zeitungsartikels\, eines Plakatfotos oder eines Screenshots aus dem Internet wird pro Person an der Theaterkasse der Eintrittspreis um 1 € ermäßigt. \nEinlass: 30 Minuten vor Veranstaltungsbeginn\nDauer der Veranstaltung: 60 Minuten einschl. Pause \nHotline: 01577 7057287\nhttp://www.puppentheater-fuer-kinder.de/
URL:https://veranstaltung.krefeld651.de/event/barbers-puppentheater-fuer-kinder-gastiert-vom-2-10-11-2025-in-krefeld/2025-11-07/
LOCATION:Sprödentalplatz\, Sprödentalstraße\, Krefeld\, NRW\, 47799\, Deutschland
CATEGORIES:Für Kinder,Theater
ATTACH;FMTTYPE=image/jpeg:https://veranstaltung.krefeld651.de/wp-content/uploads/2025/10/0-Plakat-Krefeld.jpg
ORGANIZER;CN="Barber%E2%80%98s Puppentheater f%C3%BCr Kinder":MAILTO:info@puppentheater-fuer-kinder.de
END:VEVENT
BEGIN:VEVENT
DTSTART;TZID=Europe/Berlin:20251107T190000
DTEND;TZID=Europe/Berlin:20251107T203000
DTSTAMP:20260422T143541
CREATED:20250716T134128Z
LAST-MODIFIED:20250716T134128Z
UID:10005201-1762542000-1762547400@veranstaltung.krefeld651.de
SUMMARY:Stoffwechsel. Offene Lesebühne Niederrhein
DESCRIPTION:Bei der Offenen Lesebühne lesen 6 Autor:innen je 10 Minuten lang aus ihren Werken. Drei sind von uns gesetzt\, diesmal: Ruth Löbner\, Autorin und Übersetzerin aus Mönchengladbach; Beija I. Angonga\, Autorin und “Satzgefüge”-Mitglied  aus Krefeld; und das Duo Hakkı Çimen & Sabine Neupert aus Mönchengladbach. Drei weitere werden am Abend unter den anwesenden Autor:innen ausgelost. Alle Genres und Gattungen sind willkommen: Erzählungen\, Romanausschnitte\, Gedichte\, Slam\, Fantasy und vieles mehr. \nAbwechslungsreich\, Neugier weckend\, manchmal ausbaufähig\, manchmal preisverdächtig\, manchmal noch unveröffentlicht\, manchmal als Buch erhältlich – es erwartet Sie ein Abend voller Überraschungen mit bekannten und neuen Stimmen der Literatur am Niederrhein. Durch den Abend führt die Autorin\, Moderatorin und Journalistin Sarah Weber. \n\n\nVeranstaltet von\nNiederrheinisches Literaturhaus \n\n\n\n\nEintritt\n5 Euro\, für vorlesewillige Autor:innen frei \n\nReservierung\nper Formular\nper Telefon: 02151-1541614
URL:https://veranstaltung.krefeld651.de/event/stoffwechsel-offene-lesebuehne-niederrhein-4/
LOCATION:Café Rheinschmökern\, Alte Krefelder Straße 19\, Krefeld\, Bundesstaat wählen:\, 47829\, Deutschland
CATEGORIES:Lesung,Literatur
ATTACH;FMTTYPE=image/png:https://veranstaltung.krefeld651.de/wp-content/uploads/2025/07/SW-Nov-2025-Insta-45.png
ORGANIZER;CN="Niederrheinisches Literaturhaus":MAILTO:literaturhaus@krefeld.de
END:VEVENT
BEGIN:VEVENT
DTSTART;TZID=Europe/Berlin:20251107T190000
DTEND;TZID=Europe/Berlin:20251107T213000
DTSTAMP:20260422T143541
CREATED:20250831T094301Z
LAST-MODIFIED:20251107T164301Z
UID:10006261-1762542000-1762551000@veranstaltung.krefeld651.de
SUMMARY:Der weiße Hai: Filmkunst im Klärwerk
DESCRIPTION:/  			\n			\n							 \n\n\n		\nDer weiße Hai\n50 Jahre „Der weiße Hai“: Als die Angst schwimmen lernte. Ein halbes Jahrhundert ist vergangen\, seit Steven Spielbergs Meisterwerk die Kinoleinwände eroberte und eine ganze Generation mit einer neuen\, tief sitzenden Urangst konfrontierte. „Der weiße Hai“ ist mehr als nur ein Horrorfilm; er ist der Prototyp des modernen Blockbusters und die vielleicht wirkungsvollste filmische Auseinandersetzung mit dem Thema Wasser als Angstraum. Auch 50 Jahre danach hat der Film nichts von seiner beklemmenden Kraft verloren. \nDie Genialität liegt nicht darin\, was gezeigt wird\, sondern in dem was verborgen ist. Das Wasser wird von einem Ort des sommerlichen Vergnügens – dem Strand von Amity Island – in ein Territorium des Unbekannten und der tödlichen Gefahr verwandelt. Die Kamera nimmt oft die Perspektive unter der Wasseroberfläche ein\, blickt auf die ahnungslos strampelnden Beine der Schwimmer und macht uns zu Komplizen der unsichtbaren Bedrohung. \nUnterstützt durch John Williams‘ unvergesslich minimalistische Filmmusik\, die zum akustischen Symbol für herannahenden Terror wurde\, verwandelt Spielberg das Meer in eine Bühne für unseren kollektiven Albtraum: die Furcht davor\, dass unter uns etwas lauert\, das wir nicht sehen können. Der Mensch\, an der Spitze der Nahrungskette\, wird im Wasser zum hilflosen Opfer. \n„Der weiße Hai“ ist damit übrigens ein Schlüsselwerk zum Verständnis\, wie das Kino unsere Wahrnehmung von Natur prägt. Wie unsere diffuse Angst vor Natur\, diese zerstört. Angesichts der aktuellen Flut der „Badeverbote“ einmal mehr Nachdenken: In Düsseldorf\, Krefeld\, Neuss\, and Meerbusch gilt seit August 2025 aufgrund von Allgemeinverfügungen ein Badeverbot im Rhein\, das das Betreten des Flusses tiefer als bis zum Knöchel untersagt und bei Verstößen ein Bußgeld von bis zu 1.000 Euro nach sich zieht. Ziel ist es\, die Zahl der Badeunfälle zu senken\, indem eine klare Rechtsgrundlage für das Eingreifen der Behörden geschaffen wird. Auch hier verändert erneut eine diffuse Gefahr die Wahrnehmung der Natur\, des Rheins\, bei dem aufgrund von tragischen Todesfällen dem unsere Region namengebenden und prägenden Rhein eine Monstrosität zugeordnet wird\, die Auswirkungen auf Generation von Rheinländern haben kann.   \nRegie: Steven Spielberg\, Erscheinungsjahr: 1975Altersfreigabe FSK: 16 Jahre\, Laufzeit: 124 Minuten \nKino und Filmkunst im Klärwerk:  Eine Reise durch die helle und dunkle Welt des Wassers\nGefördert durch die Stadt Krefeld\, Kulturbüro \n\nDas historische Klärwerk in Krefeld Uerdingen wird zur Bühne für eine außergewöhnliche Filmreihe\, die sich aus fünf völlig unterschiedlichen Perspektiven dem Thema „Wasser“ widmet. Im Zentrum steht das Kulturgut Wasser – jenes Element\, das auf unserem Planeten das Leben ermöglicht und in der Kultur der Menschheit eine tiefgreifende\, vielschichtige Rolle einnimmt.  \nEs ist der Quell allen Lebens\, doch in Kunst und Kultur zugleich ein Symbol für unergründliche Mysterien\, strahlende Schönheit und tödliche Gefahr. Mit dieser Reihe tauchen wir tief ein in die Seele des Wassers\, zeigen nicht nur seine glitzernde Oberfläche\, sondern hinterfragen auch seinen wahren Wert und seine spirituelle Bedeutung. Insbesondere werfen wir einen Blick auf jene Orte\, an denen Wasser in unserer Wahrnehmung zum Angstraum wird. \n\n\nFörderverein des historischen Klärwerks Krefeld  e.V.\n \nVeranstalter-Website anzeigen \n \n\n\n\n\n\n\n						\n							Zum Kalender hinzufügen						 \n\n\n\n									\n										Google Kalender									\n								\n\n									\n										iCalendar									\n								\n\n									\n										Outlook 365									\n								\n\n									\n										Outlook Live
URL:https://veranstaltung.krefeld651.de/event/der-weisse-hai-filmkunst-im-klaerwerk/
LOCATION:Industriedenkmal historisches Klärwerk\, Rundweg 20-22\, Krefeld Uerdingen\, Nordrhein-Westfalen\, 47829\, Deutschland
CATEGORIES:Führungen durch das Klärwerk,Kino
ATTACH;FMTTYPE=image/jpeg:https://veranstaltung.krefeld651.de/wp-content/uploads/2025/08/jaws-50th-anniversary-poster-6E2kio.jpg
END:VEVENT
BEGIN:VEVENT
DTSTART;TZID=Europe/Berlin:20251107T190000
DTEND;TZID=Europe/Berlin:20251107T213000
DTSTAMP:20260422T143541
CREATED:20250922T111458Z
LAST-MODIFIED:20250922T111458Z
UID:10006341-1762542000-1762551000@veranstaltung.krefeld651.de
SUMMARY:GRENZGANG Reise-Reportage: Norwegen - Unterwegs Richtung Mitternachtssonne
DESCRIPTION:mit Sebastian Lehrke \nWo schroffe Fjordwände ins türkisblaue Meer stürzen\, einsame Straßen durch die Wildnis führen\, Fischerdörfer unter der Mitternachtssonne ruhen oder eine der letzten Wildnisse der Erde so kurz vor dem Nordpol wartet. Das ist Norwegen\, ein Land der unbändigen Natur! Mit Bulli „Frieda“ fährt der Fotograf und Filmemacher Sebastian Lehrke immer wieder in den hohen Norden Europas\, zu den wanderparadiesischen Lofoten\, nach Senja und mehrfach mit Expeditionsschiffen bis hoch nach Spitzbergen weit nördlich des Polarkreises. Auf seiner 8.000 Km langen\, ungeplanten Route durch Bilderbuchlandschaften und Orte\, in denen die Zeit stillzustehen scheint\, lebt Sebastian entschleunigt in den Tag und erlebt die womöglich letzten Bastionen der Wildnis Europas. Eine inspirierende Reise voll von beeindruckenden Erlebnissen\, spektakulärer Natur\, mystischem Licht und Stille! \nInfos und Tickets online unter: https://www.grenzgang.de/programm/norwegen/
URL:https://veranstaltung.krefeld651.de/event/grenzgang-reise-reportage-norwegen-unterwegs-richtung-mitternachtssonne/
LOCATION:Kulturfabrik\, Krefeld\, Deutschland
CATEGORIES:Bildung,Vortrag
ATTACH;FMTTYPE=image/jpeg:https://veranstaltung.krefeld651.de/wp-content/uploads/2025/09/GRENZGANG-Presse-Reisereportage-Norwegen-Sebastian-Lehrke-Foto-Sebastian-Lehrke-scaled.jpg
END:VEVENT
BEGIN:VEVENT
DTSTART;TZID=Europe/Berlin:20251107T200000
DTEND;TZID=Europe/Berlin:20251107T223000
DTSTAMP:20260422T143541
CREATED:20250909T155036Z
LAST-MODIFIED:20250909T155036Z
UID:10006276-1762545600-1762554600@veranstaltung.krefeld651.de
SUMMARY:WOW Varieté Krefeld Premiere
DESCRIPTION:Tauchen Sie ein in die atemberaubende Welt des “WOW Varietés”! \nDas WOW Varieté ist erstmals in Krefeld am 07. und 08.11.25 im Seidenweberhaus! Freuen Sie sich auf preisgekrönte internationale Künstlerinnen und Künstler\, die Ihnen das Beste aus der faszinierenden Welt der Artistik\, Comedy und Zauberei präsentieren. \nSichern Sie sich jetzt Ihre Tickets für eine unvergesslichen Show voller Magie\, Humor und erstklassiger Unterhaltung im Seidenweberhaus Krefeld!
URL:https://veranstaltung.krefeld651.de/event/wow-variete-krefeld-premiere/
LOCATION:Seidenweberhaus Krefeld\, Theaterplatz 1\, Krefeld\, NRW\, 47798\, Deutschland
ATTACH;FMTTYPE=image/jpeg:https://veranstaltung.krefeld651.de/wp-content/uploads/2025/09/Quadratisch_-scaled.jpg
ORGANIZER;CN="WOW Live GmbH &amp%3B Co. KG":MAILTO:info@wowvariete.de
END:VEVENT
END:VCALENDAR