BEGIN:VCALENDAR
VERSION:2.0
PRODID:-//Veranstaltungen Krefeld - ECPv6.6.0.2//NONSGML v1.0//EN
CALSCALE:GREGORIAN
METHOD:PUBLISH
X-WR-CALNAME:Veranstaltungen Krefeld
X-ORIGINAL-URL:https://veranstaltung.krefeld651.de
X-WR-CALDESC:Veranstaltungen für Veranstaltungen Krefeld
REFRESH-INTERVAL;VALUE=DURATION:PT1H
X-Robots-Tag:noindex
X-PUBLISHED-TTL:PT1H
BEGIN:VTIMEZONE
TZID:Europe/Berlin
BEGIN:DAYLIGHT
TZOFFSETFROM:+0100
TZOFFSETTO:+0200
TZNAME:CEST
DTSTART:20250330T010000
END:DAYLIGHT
BEGIN:STANDARD
TZOFFSETFROM:+0200
TZOFFSETTO:+0100
TZNAME:CET
DTSTART:20251026T010000
END:STANDARD
END:VTIMEZONE
BEGIN:VEVENT
DTSTART;TZID=Europe/Berlin:20251104T150000
DTEND;TZID=Europe/Berlin:20251128T180000
DTSTAMP:20260422T155221
CREATED:20251027T091451Z
LAST-MODIFIED:20251027T091451Z
UID:10006415-1762268400-1764352800@veranstaltung.krefeld651.de
SUMMARY:Nihil novi: Anthropogene Landschaften des Alltags in Polen - Tomasz Lewandowski (2019–ongoing) - Ausstellung
DESCRIPTION:Seit einigen Jahren dokumentiert Tomasz Lewandowski die Auswirkungen des Anthropozäns auf die Landschaft der Alltagsräume in Polen. Die von ihm untersuchten Orte befinden sich außerhalb der restaurierten Zentren der Großstädte und bleiben oft von der Gesellschaft quasi unbemerkt. Ihre angebliche Anonymität beruht darauf\, dass sie der natürliche Lebensraum von Millionen Menschen sind. Obwohl sie den allgemein anerkannten Charakter von Städten und Regionen in der Logik der Wahrnehmung nicht prägen\, sind sie der wichtigste Hintergrund für das alltägliche Leben sowie Kulisse für die dort sich abspielenden sozialen und politischen Prozesse. Daher erzählen diese Orte uns auf authentische Weise mehr über die mentale Verfassung der Gesellschaft\, die sie bewohnt. Denn Alltagsräume werden direkt von ihren Bewohnern gestaltet\, oft unbewusst und ungeachtet offizieller Entwicklungspläne und herrschender Kanons. Diese auf individueller Initiative basierende Gestaltung der eigenen Umgebung „von unten nach oben“ führt zu ihrer Fragmentierung und erinnert uns zugleich in gewisser Weise an die ursprüngliche Natur der menschlichen Lebensräume zum Beginn der Zivilisation. \nBei der Arbeit an seiner Dokumentation kombiniert Tomasz Lewandowski Bilder von anthropogenen Landschaftsmotiven mit zufällig entstandenen Porträts. Auf diese Weise werden die auf den Fotografien gezeigten Räume personifiziert und wirken nicht länger wie anonyme Kulissen. Die Porträts betonen zudem die Rolle des Anthropozäns in unserer Wahrnehmung des auf einer Fotografie abgebildeten Ausschnitts der Realität. \nThomasz Lewandowski (Fotografie) nutzt verschiedene\, fotografische Techniken\, um den Mikrokosmos vordefinierter Orte zu reflektieren. Thomasz Lewandowski lebt in Görlitz\, arbeitet grenzübergreifend gleichermaßen in Deutschland und in Polen.\nFür die Serie Nihil novi wurden Motive mit einer Plattenkamera auf großformatige Schwarz-Weiß-Negative aufgenommen\, die anschließend digitalisiert wurden.
URL:https://veranstaltung.krefeld651.de/event/nihil-novi-anthropogene-landschaften-des-alltags-in-polen-tomasz-lewandowski-2019-ongoing-ausstellung/
LOCATION:Südbahnhof\, Saumstr.9\, Krefeld\, NRW\, 47805\, Deutschland
ATTACH;FMTTYPE=image/jpeg:https://veranstaltung.krefeld651.de/wp-content/uploads/2025/10/Nihil-novi-LEGNICA_NOWA_2020-1.jpg
ORGANIZER;CN="Werkhaus e.V.":MAILTO:info@werkhaus-krefeld.de
END:VEVENT
BEGIN:VEVENT
DTSTART;TZID=Europe/Berlin:20251108T100000
DTEND;TZID=Europe/Berlin:20251108T130000
DTSTAMP:20260422T155221
CREATED:20251006T064506Z
LAST-MODIFIED:20251006T064506Z
UID:10006374-1762596000-1762606800@veranstaltung.krefeld651.de
SUMMARY:Inklusiver Line-Dance Workshop
DESCRIPTION:Dieser Workshop richtet sich an Menschen mit und ohne Einschränkungen die sich gerne zur Musik bewegen. Warum nicht auch mal Line-Dance? \nAm 08.11.2025 richtet die Abt. Rollstuhl- & Behindertentanz des TC Seidenstadt Krefeld e.V. einen entsprechenden Workshop aus. \nDie Teilnahme ist kostenlos. \nAnmeldungen und / oder Fragen bitte unter: Handicaps@tcs-krefeld.de
URL:https://veranstaltung.krefeld651.de/event/inklusiver-line-dance-workshop/
LOCATION:TC Seidenstadt Krefeld e.V.\, Am Hauptbahnhof 1\, Krefeld\, NRW\, 47798\, Deutschland
CATEGORIES:Sport,Tanz,Workshop
ATTACH;FMTTYPE=image/jpeg:https://veranstaltung.krefeld651.de/wp-content/uploads/2025/10/Flyer_Line-Dance.jpg
ORGANIZER;CN="TC Seidenstadt Krefeld e.V. Abt. Rollstuhl- &amp%3B Behindertentanz":MAILTO:handicaps@tcs-krefeld.de
END:VEVENT
BEGIN:VEVENT
DTSTART;TZID=Europe/Berlin:20251108T110000
DTEND;TZID=Europe/Berlin:20251108T120000
DTSTAMP:20260422T155221
CREATED:20251029T075715Z
LAST-MODIFIED:20251029T075715Z
UID:10006733-1762599600-1762603200@veranstaltung.krefeld651.de
SUMMARY:Barber‘s Puppentheater für Kinder gastiert vom 2. - 10.11.2025 in Krefeld
DESCRIPTION:Mit farbenprächtigen Figuren und Bühnenbildern ist Barber‘s Puppentheater für Kinder und deren Familien seit vielen Jahren auf Tournee und begeistert mit außergewöhnlichen Puppenspielen. Die bezaubernden Stockhandpuppen gewinnen während des Spiels an Lebhaftigkeit\, ziehen Klein und Groß in ihren Bann und lassen die Umwelt vergessen. Geeignet für Kinder und Junggebliebene ab 2 Jahren. \nWO:\nTheaterzelt\nSprödentalplatz\n47799 Krefeld \nWANN und WAS:\n2. – 10.11.2025\n(Di. + Mi. keine Vorstellung) \nDas NEINhorn\nMo. 16:00 Uhr / Sa. + So. 11:00 Uhr \nDas Puppenspiel zum Kinderbuch von Marc Uwe Kling und Astrid Henn\nIm Herzwald kommt ein schnickeldischnuckeliges Einhorn zur Welt. Alle sind ganz lilalieb zu ihm und füttern es ständig mit gezuckertem Glücksklee\, aber das Tierchen benimmt sich trotzdem ganz und gar nicht einhornmäßig! Es sagt einfach immer „Nein“\, so dass seine Familie es bald nur noch NEINhorn nennt. \nEines Tages bricht das NEINhorn aus seiner Zuckerwattewelt aus. Es trifft einen Waschbären\, der nicht zuhören will\, einen Hund\, dem echt alles schnuppe ist und eine Prinzessin\, die immer Widerworte gibt. Die vier sind ein ziemlich gutes Team. Denn sogar bockig sein macht zusammen viel mehr Spaß! \nDer kleine Rabe Socke\nDo. + Fr. 16:00 Uhr / Sa. + So. 15:00 Uhr \nNach dem Kinderbuch von Nele Moost und Annet Rudolph\nDer freche Rabe kommt in eure Stadt. In den Geschichten „Alles Gemerkt“ und „Alles Mutig“ geht es lustig\, spannend und zugleich lehrreich zu. Socke hat auch gleich eine Menge Freunde mitgebracht: Eddi Bär – Hase Löffel – das Schaf Wolle – der Dachs sowie Frau Eule und viele andere mehr… SCHAU EINFACH REIN! \nEINTRITTSPREIS:\nTicket 12 € / pro Person – ausschließlich an der Theaterkasse erhältlich.\nBei Vorlage eines Ermäßigungsgutscheins\, eines Zeitungsartikels\, eines Plakatfotos oder eines Screenshots aus dem Internet wird pro Person an der Theaterkasse der Eintrittspreis um 1 € ermäßigt. \nEinlass: 30 Minuten vor Veranstaltungsbeginn\nDauer der Veranstaltung: 60 Minuten einschl. Pause \nHotline: 01577 7057287\nhttp://www.puppentheater-fuer-kinder.de/
URL:https://veranstaltung.krefeld651.de/event/barbers-puppentheater-fuer-kinder-gastiert-vom-2-10-11-2025-in-krefeld/2025-11-08/1/
LOCATION:Sprödentalplatz\, Sprödentalstraße\, Krefeld\, NRW\, 47799\, Deutschland
CATEGORIES:Für Kinder,Theater
ATTACH;FMTTYPE=image/jpeg:https://veranstaltung.krefeld651.de/wp-content/uploads/2025/10/0-Plakat-Krefeld.jpg
ORGANIZER;CN="Barber%E2%80%98s Puppentheater f%C3%BCr Kinder":MAILTO:info@puppentheater-fuer-kinder.de
END:VEVENT
BEGIN:VEVENT
DTSTART;TZID=Europe/Berlin:20251108T110000
DTEND;TZID=Europe/Berlin:20251108T150000
DTSTAMP:20260422T155221
CREATED:20251031T080020Z
LAST-MODIFIED:20251031T080041Z
UID:10006741-1762599600-1762614000@veranstaltung.krefeld651.de
SUMMARY:Mut(t)räume - Wochenend-Workshop für Mädchen* &; MINTA* zwischen 16-27 Jahren
DESCRIPTION:“Miteinander miteinander miteinander sein.\nBrauchst du mal meine Hilfe gib mir einfach Bescheid.\nFreude ist am Allerschönsten wenn man sie teilt.\nSind alle beisammen ist niemand allein.”\n(„Miteinander“ von Sukini) \nIn unserem Workshop „Mut(t)räume“ geht es also um Empowerment und Zusammenhalt. Doch was bedeuten diese Begriffe eigentlich und was hat das mit dir\, mit uns zu tun? Mit Techniken der Selbstbehauptung/ Selbstverteidigung und kreativen Methoden lernen wir\, „nein“ zu sagen und unsere Grenzen kennenzulernen.\nGleichzeitig wollen wir „ja“ sagen\, zu: \nVerbundenheit\, Zusammenhalt\, Muträumen und gemeinsame Traumräumen. \nMit Bewegung und kleinen Tanzmoves lassen wir unsere Erfahrungen in eine Choreografie einfließen. \nDeine Dozentinnen: Didem Günel und Aylin Çolakoğlu \n  \nHast du noch Fragen oder Gedanken? Dann melde dich gerne bei den Dozentinnen\, unter:\nkreativspielraum@protone.me\nOrt: Im Freiraum 21 – Dießemerstr. 21 (mit der Straßenbahn 044 an der Bahnstr. aussteigen und 1 Minute laufen)\nKomm so wie du dich am wohlsten fühlst!\nWir freuen uns auf euch:)\nEure Aylin & Didem \n 
URL:https://veranstaltung.krefeld651.de/event/muttraeume-wochenend-workshop-fuer-maedchen-minta-zwischen-16-27-jahren/2025-11-08/
LOCATION:Freiraum21\, Dießemer Str. 21\, Krefeld\, NRW\, 47799\, Deutschland
CATEGORIES:Bildung,Networking,Party
ATTACH;FMTTYPE=image/jpeg:https://veranstaltung.krefeld651.de/wp-content/uploads/2025/10/LKJ_Logo_Farbe-e1731582385803-300x82-1.jpg
ORGANIZER;CN="Werkhaus e.v.":MAILTO:info@werkhaus-krefeld.de
END:VEVENT
BEGIN:VEVENT
DTSTART;TZID=Europe/Berlin:20251108T113000
DTEND;TZID=Europe/Berlin:20251108T120000
DTSTAMP:20260422T155221
CREATED:20251031T080352Z
LAST-MODIFIED:20251031T080352Z
UID:10006739-1762601400-1762603200@veranstaltung.krefeld651.de
SUMMARY:Orgelmusik zur Marktzeit
DESCRIPTION:Am Samstag\, den 8. November\, findet um 11:30 Uhr die nächste Orgelmusik zur Marktzeit in der Stadtpfarrkirche St. Dionysius statt. Unter dem Motto “Barockes Mitteldeutschland” stehen Orgelwerke von Johann Sebastian Bach\, Georg Böhm und Johann Gottfried Walther auf dem Programm. Regionalkantor Niklas Piel musiziert an beiden Orgeln von St. Dionysius. Der Eintritt ist frei.
URL:https://veranstaltung.krefeld651.de/event/orgelmusik-zur-marktzeit-3/
LOCATION:Stadtpfarrkirche St. Dionysius\, Dionysiusplatz\, Krefeld\, 47798\, Deutschland
CATEGORIES:Konzert,Musik
ATTACH;FMTTYPE=image/png:https://veranstaltung.krefeld651.de/wp-content/uploads/2025/10/08.11.25-Plakat-MM1.png
ORGANIZER;CN="Kath. Kirchengemeinde Papst Johannes XXIII.":MAILTO:niklas.piel@bistum-aachen.de
END:VEVENT
BEGIN:VEVENT
DTSTART;TZID=Europe/Berlin:20251108T120000
DTEND;TZID=Europe/Berlin:20251108T160000
DTSTAMP:20260422T155221
CREATED:20251027T091726Z
LAST-MODIFIED:20251027T091726Z
UID:10006408-1762603200-1762617600@veranstaltung.krefeld651.de
SUMMARY:Spiele-Tasting mit den Brettspiel-Verrückten
DESCRIPTION:Komm zu unserem Spiele-Tasting und teste aktuelle Neuheiten sowie beliebte Klassiker. Ausprobieren\, lachen und jede Menge Spaß. Die Experten helfen bei den Regeln. Die Brettspiel-Verrückten Krefeld e.V. sind ein gemeinnütziger Verein zur Förderung des Kulturguts “Spiel”.
URL:https://veranstaltung.krefeld651.de/event/spiele-tasting-mit-den-brettspiel-verrueckten/2025-11-08/
LOCATION:Thalia Krefeld\, Hochstr. 96-100\, Krefeld\, NRW\, 47798\, Deutschland
CATEGORIES:Für Kinder
ATTACH;FMTTYPE=image/jpeg:https://veranstaltung.krefeld651.de/wp-content/uploads/2025/10/brettspie-verrueckte-Logo1-scaled.jpg
ORGANIZER;CN="Thalia Krefeld":MAILTO:thalia.krefeld@thalia.de
END:VEVENT
BEGIN:VEVENT
DTSTART;TZID=Europe/Berlin:20251108T140000
DTEND;TZID=Europe/Berlin:20251108T163000
DTSTAMP:20260422T155221
CREATED:20250909T155108Z
LAST-MODIFIED:20250909T155108Z
UID:10006277-1762610400-1762619400@veranstaltung.krefeld651.de
SUMMARY:WOW Varieté Krefeld
DESCRIPTION:Tauchen Sie ein in die atemberaubende Welt des “WOW Varietés”! \nDas WOW Varieté ist erstmals in Krefeld am 07. und 08.11.25 im Seidenweberhaus! Freuen Sie sich auf preisgekrönte internationale Künstlerinnen und Künstler\, die Ihnen das Beste aus der faszinierenden Welt der Artistik\, Comedy und Zauberei präsentieren. \nSichern Sie sich jetzt Ihre Tickets für eine unvergesslichen Show voller Magie\, Humor und erstklassiger Unterhaltung im Seidenweberhaus Krefeld!
URL:https://veranstaltung.krefeld651.de/event/wow-variete-krefeld/
LOCATION:Seidenweberhaus Krefeld\, Theaterplatz 1\, Krefeld\, NRW\, 47798\, Deutschland
ATTACH;FMTTYPE=image/jpeg:https://veranstaltung.krefeld651.de/wp-content/uploads/2025/09/Quadratisch_-1-scaled.jpg
ORGANIZER;CN="WOW Live GmbH &amp%3B Co. KG":MAILTO:info@wowvariete.de
END:VEVENT
BEGIN:VEVENT
DTSTART;TZID=Europe/Berlin:20251108T150000
DTEND;TZID=Europe/Berlin:20251108T160000
DTSTAMP:20260422T155221
CREATED:20251029T075715Z
LAST-MODIFIED:20251029T075715Z
UID:10006734-1762614000-1762617600@veranstaltung.krefeld651.de
SUMMARY:Barber‘s Puppentheater für Kinder gastiert vom 2. - 10.11.2025 in Krefeld
DESCRIPTION:Mit farbenprächtigen Figuren und Bühnenbildern ist Barber‘s Puppentheater für Kinder und deren Familien seit vielen Jahren auf Tournee und begeistert mit außergewöhnlichen Puppenspielen. Die bezaubernden Stockhandpuppen gewinnen während des Spiels an Lebhaftigkeit\, ziehen Klein und Groß in ihren Bann und lassen die Umwelt vergessen. Geeignet für Kinder und Junggebliebene ab 2 Jahren. \nWO:\nTheaterzelt\nSprödentalplatz\n47799 Krefeld \nWANN und WAS:\n2. – 10.11.2025\n(Di. + Mi. keine Vorstellung) \nDas NEINhorn\nMo. 16:00 Uhr / Sa. + So. 11:00 Uhr \nDas Puppenspiel zum Kinderbuch von Marc Uwe Kling und Astrid Henn\nIm Herzwald kommt ein schnickeldischnuckeliges Einhorn zur Welt. Alle sind ganz lilalieb zu ihm und füttern es ständig mit gezuckertem Glücksklee\, aber das Tierchen benimmt sich trotzdem ganz und gar nicht einhornmäßig! Es sagt einfach immer „Nein“\, so dass seine Familie es bald nur noch NEINhorn nennt. \nEines Tages bricht das NEINhorn aus seiner Zuckerwattewelt aus. Es trifft einen Waschbären\, der nicht zuhören will\, einen Hund\, dem echt alles schnuppe ist und eine Prinzessin\, die immer Widerworte gibt. Die vier sind ein ziemlich gutes Team. Denn sogar bockig sein macht zusammen viel mehr Spaß! \nDer kleine Rabe Socke\nDo. + Fr. 16:00 Uhr / Sa. + So. 15:00 Uhr \nNach dem Kinderbuch von Nele Moost und Annet Rudolph\nDer freche Rabe kommt in eure Stadt. In den Geschichten „Alles Gemerkt“ und „Alles Mutig“ geht es lustig\, spannend und zugleich lehrreich zu. Socke hat auch gleich eine Menge Freunde mitgebracht: Eddi Bär – Hase Löffel – das Schaf Wolle – der Dachs sowie Frau Eule und viele andere mehr… SCHAU EINFACH REIN! \nEINTRITTSPREIS:\nTicket 12 € / pro Person – ausschließlich an der Theaterkasse erhältlich.\nBei Vorlage eines Ermäßigungsgutscheins\, eines Zeitungsartikels\, eines Plakatfotos oder eines Screenshots aus dem Internet wird pro Person an der Theaterkasse der Eintrittspreis um 1 € ermäßigt. \nEinlass: 30 Minuten vor Veranstaltungsbeginn\nDauer der Veranstaltung: 60 Minuten einschl. Pause \nHotline: 01577 7057287\nhttp://www.puppentheater-fuer-kinder.de/
URL:https://veranstaltung.krefeld651.de/event/barbers-puppentheater-fuer-kinder-gastiert-vom-2-10-11-2025-in-krefeld/2025-11-08/2/
LOCATION:Sprödentalplatz\, Sprödentalstraße\, Krefeld\, NRW\, 47799\, Deutschland
CATEGORIES:Für Kinder,Theater
ATTACH;FMTTYPE=image/jpeg:https://veranstaltung.krefeld651.de/wp-content/uploads/2025/10/0-Plakat-Krefeld.jpg
ORGANIZER;CN="Barber%E2%80%98s Puppentheater f%C3%BCr Kinder":MAILTO:info@puppentheater-fuer-kinder.de
END:VEVENT
BEGIN:VEVENT
DTSTART;TZID=Europe/Berlin:20251108T180000
DTEND;TZID=Europe/Berlin:20251109T010000
DTSTAMP:20260422T155221
CREATED:20251103T084344Z
LAST-MODIFIED:20251103T084344Z
UID:10006748-1762624800-1762650000@veranstaltung.krefeld651.de
SUMMARY:Glüh Dich Glücklich | Opening Krefeld | Sa. 08. November | Im Süden (Ehem. Kosmopolit)
DESCRIPTION: Glüh Dich Glücklich – Krefeld Opening | Sa. 08.11.2025\n Ort: Im Süden (Ehem. Kosmopolit)\, Lindenstraße 7\, 47798 Krefeld\n Termin: Samstag\, 08.11.2025 | 18 Uhr Einlass ab 18 Jahren Dresscode: Glitzer & Winterfeeling erwünscht. Jogginghosen: Kein Einlass. Tickets: https://gdg2025krefeld.ticket.io/\n\n\n Mehr Infos: www.instagram.com/gluehdichgluecklich www.instagram.com/gluehdichgluecklich_krefeld www.facebook.com/gluehdichgluecklich www.facebook.com/gluehdichgluecklichkrefeld www.gluehdichgluecklich.com \n*Abendkasse geöffnet\n* Der Süden erhebt einen kleinen MVZ
URL:https://veranstaltung.krefeld651.de/event/glueh-dich-gluecklich-opening-krefeld-sa-08-november-im-sueden-ehem-kosmopolit/
LOCATION:Im Süden (Ehem. Cafe Kosmopolit)\, Lindenstraße 7\, Krefeld\, Nrw\, 47798\, Deutschland
CATEGORIES:Essen&Trinken,Musik,Party
ATTACH;FMTTYPE=image/jpeg:https://veranstaltung.krefeld651.de/wp-content/uploads/2025/10/gdgedd.jpeg
ORGANIZER;CN="Kevin Friedichs":MAILTO:kevinfriedrichs91@gmail.com
END:VEVENT
BEGIN:VEVENT
DTSTART;TZID=Europe/Berlin:20251108T190000
DTEND;TZID=Europe/Berlin:20251108T213000
DTSTAMP:20260422T155221
CREATED:20250909T155138Z
LAST-MODIFIED:20250909T155138Z
UID:10006278-1762628400-1762637400@veranstaltung.krefeld651.de
SUMMARY:WOW Varieté Krefeld
DESCRIPTION:Tauchen Sie ein in die atemberaubende Welt des “WOW Varietés”! \nDas WOW Varieté ist erstmals in Krefeld am 07. und 08.11.25 im Seidenweberhaus! Freuen Sie sich auf preisgekrönte internationale Künstlerinnen und Künstler\, die Ihnen das Beste aus der faszinierenden Welt der Artistik\, Comedy und Zauberei präsentieren. \nSichern Sie sich jetzt Ihre Tickets für eine unvergesslichen Show voller Magie\, Humor und erstklassiger Unterhaltung im Seidenweberhaus Krefeld!
URL:https://veranstaltung.krefeld651.de/event/wow-variete-krefeld-2/
LOCATION:Seidenweberhaus Krefeld\, Theaterplatz 1\, Krefeld\, NRW\, 47798\, Deutschland
ATTACH;FMTTYPE=image/jpeg:https://veranstaltung.krefeld651.de/wp-content/uploads/2025/09/Quadratisch_-2-scaled.jpg
ORGANIZER;CN="WOW Live GmbH &amp%3B Co. KG":MAILTO:info@wowvariete.de
END:VEVENT
BEGIN:VEVENT
DTSTART;TZID=Europe/Berlin:20251108T190000
DTEND;TZID=Europe/Berlin:20251108T220000
DTSTAMP:20260422T155221
CREATED:20250708T122040Z
LAST-MODIFIED:20250708T122040Z
UID:10004783-1762628400-1762639200@veranstaltung.krefeld651.de
SUMMARY:Das Kriminal Dinner - Krimidinner für Jung und Alt
DESCRIPTION:Schauer oder ein Genuss für den Gaumen? Hier kommen beide Sachen zusammen! Erleben Sie ein schauriges Dinner während unsere professionellen Darsteller Sie in die Lage eines Ermittlers bei einem spannenden Kriminalfall versetzen. \nDas 1857. niederrheinische Wirtshaus im Haus Wirichs ist mehr als nur ein Restaurant – es ist ein Stück lebendige Geschichte. Seit 1857 werden hier Gäste mit kulinarischen Köstlichkeiten verwöhnt\, und auch heute noch ist das Wirtshaus ein Ort\, an dem Tradition auf modernen Genuss trifft. „In unserer Lokation ist Gastronomie seit 1857 beheimatet“\, und diese langjährige Erfahrung schmeckt man bei jedem Bissen. \nDas liebevoll restaurierte Gebäude strahlt eine heimelige Atmosphäre aus\, die sofort zum Verweilen einlädt. Perfekter Schau Ort für ein Mord! Dabei bietet die Speisekarte eine feine Auswahl regionaler Spezialitäten\, die mit viel Sorgfalt und Liebe in einem köstlichen 3-Gänge Menü zubereitet werden. Unvergessliche Abende\, wie das beliebte Krimidinner Krefeld\, machen das Wirtshaus zu einem Ort\, an dem Geschichte lebendig wird und kulinarische Erlebnisse mit spannender Unterhaltung kombiniert werden. Hier wird jeder Besuch zu einem besonderen Ereignis\, das man so schnell nicht vergisst.
URL:https://veranstaltung.krefeld651.de/event/das-kriminal-dinner-krimidinner-fuer-jung-und-alt-3/2025-11-08/
LOCATION:1857. niederrheinisches Wirtshaus im Haus Wirichs\, Hochstraße 21\, Tönisvorst\, NRW\, 47918\, Deutschland
ATTACH;FMTTYPE=image/jpeg:https://veranstaltung.krefeld651.de/wp-content/uploads/2025/07/Das-Kriminal-Dinner-1.jpg
ORGANIZER;CN="engesser marketing gmbh":MAILTO:marketing@das-kriminal-dinner.de
END:VEVENT
BEGIN:VEVENT
DTSTART;TZID=Europe/Berlin:20251108T190000
DTEND;TZID=Europe/Berlin:20251108T233000
DTSTAMP:20260422T155221
CREATED:20251105T083815Z
LAST-MODIFIED:20251105T083815Z
UID:10006760-1762628400-1762644600@veranstaltung.krefeld651.de
SUMMARY:Go Music LIVE@Jazzkeller Krefeld
DESCRIPTION:Julia Hoffmann voc\nZibby Krebs guit.\nMartin Engelien bass\nPatrick Metzger drums \nDie Kult-Konzertreihe GO MUSIC kehrt im November mit einem Donnerschlag zurück. Bass-Legende und Moderator Martin Engelien\, Gründer des Projekts und seit fast drei Jahrzehnten Garant für Live-Magie\, bringt die Bühnen von sieben Städten in NRW erneut zum Beben. Dieses Mal ist etwas Besonderes in der Luft: Zwei faszinierende Neuzugänge erweitern die GO MUSIC Familie – und sie versprechen eine Tour voller Überraschungen\, Leidenschaft und unvergesslicher Momente. \nAllen voran Julia Hoffmann: eine Rocksängerin mit Charisma\, Bühnenpräsenz und einer Stimme\, die Mauern einreißt und Herzen öffnet. Ob in Musicals wie Mamma Mia!\, Copacabana oder Fame\, ob mit ihren Bands oder im Rahmen des Künstlerpools Hollywood Connection – Julia ist mehr als nur eine Sängerin. Sie ist ein Wirbelwind an Energie\, eine echte Frontfrau\, die vom ersten Ton an das Publikum mitreißt. Mal kraftvoll\, mal zart\, aber immer authentisch – sie lebt Musik mit jeder Faser. \nAn den Drums der zweite Neuzugang: Patrick Metzger. Ein Virtuose mit internationaler Erfahrung\, der bereits mit Größen wie Bobby Kimball (Toto)\, Guildo Horn oder Beatrice Egli auf der Bühne stand. Von Dubai bis New York\, von Amsterdam bis Toronto hat er die Bühnen dieser Welt gesehen – und nun bringt er seine explosive Mischung aus Präzision\, Groove und Leidenschaft in die GO MUSIC Familie. Patrick ist kein Schlagzeuger\, er ist ein Motor: ein Herzschlag\, der jede Show antreibt. \nKomplettiert wird das Line-Up von Zibby Krebs\, aktuell Gitarrist an der Seite von Rock-Ikone Doro Pesch. Zibby ist ein Meister der Saiten\, dessen Spiel zwischen Hard Rock-Energie und gefühlvoller Eleganz oszilliert – ein langjähriger Freund und Publikumsliebling bei GO MUSIC\, der den Funkenflug garantiert. \nUnd über allem schwebt die Handschrift von Martin Engelien. Seit er das Projekt 1996 bei „Wetten\, dass?“ ins Leben rief\, steht GO MUSIC für ein Versprechen: Kein Konzert gleicht dem anderen. Ohne Bandprobe\, ohne Routine\, aber mit purer Leidenschaft verwandeln Engelien und seine Mitstreiter altbekannte Songs in aufregende Neuschöpfungen. Hier wird nicht gecovert – hier wird gelebt\, improvisiert\, gefühlt. \nDie GO MUSIC Novembertour 2025 ist mehr als ein Konzert. Sie ist ein Fest. Ein Abenteuer. Ein Ereignis\, das die Grenzen von Rock\, Pop und Soul sprengt und das Publikum in einen Taumel aus Klang\, Rhythmus und Emotion stürzt. Wer Musik nicht nur hören\, sondern erleben will\, darf sich dieses Spektakel nicht entgehen lassen. \n 
URL:https://veranstaltung.krefeld651.de/event/go-music-livejazzkeller-krefeld-3/
LOCATION:Jazzkeller Krefeld\, Lohstraße\, 90\, Krefeld\, NRW\, 47798\, Deutschland
CATEGORIES:Konzert,Musik
ATTACH;FMTTYPE=image/jpeg:https://veranstaltung.krefeld651.de/wp-content/uploads/2025/11/556641483_1393374209459543_5639868270865368508_n.jpg
ORGANIZER;CN="Bernard Bosil":MAILTO:bernardbosil@gmail.com
END:VEVENT
BEGIN:VEVENT
DTSTART;TZID=Europe/Berlin:20251108T200000
DTEND;TZID=Europe/Berlin:20251108T223000
DTSTAMP:20260422T155221
CREATED:20251027T090930Z
LAST-MODIFIED:20251027T090930Z
UID:10006695-1762632000-1762641000@veranstaltung.krefeld651.de
SUMMARY:Joey´s Open Mic - Eine Nacht voller Stand-up Comedy
DESCRIPTION:6 Comedians 1 Mic – Premiere in Krefeld! \nErleben Sie eine unvergessliche Nacht voller Stand-up-Comedy bei “Joey’s Open Mic”. Die Show präsentiert dem Publikum eine abwechslungsreiche Mischung aus talentierten Comedians\, sowohl etablierte Künstler als auch aufstrebende Talente\, die auf der Bühne ihr Können unter Beweis stellen. \nVon Wortwitz über Situationskomik bis hin zu schrägen Geschichten bietet die Show eine breite Palette an Comedy-Stilen\, die für jeden Geschmack etwas zu bieten haben. Unsere Comedians sorgen nicht nur für Lacher im Publikum\, sondern regen auch zum Nachdenken an. \nhttps://joeyscomedyclub.de  \nInstagram:\nitsjoeycomedy \nYoutube:\n@JoeyMalik \n*Einlass 19:00 Uhr\n** Preise zzgl 1 € System Gebühr\n***Parken auf dem Parkplatz gegenüber für Veranstaltungen möglich
URL:https://veranstaltung.krefeld651.de/event/joeys-open-mic-eine-nacht-voller-stand-up-comedy/2025-11-08/
LOCATION:Südbahnhhof\, Saumstr. 9\, Krefeld\, NRW\, 47805\, Deutschland
CATEGORIES:Bildung,Comedy,Kabarett
ATTACH;FMTTYPE=image/jpeg:https://veranstaltung.krefeld651.de/wp-content/uploads/2025/10/Joeys-Open-Mic-Logo-scaled-1.jpg
ORGANIZER;CN="Werkhaus e.V.":MAILTO:info@werkhaus-krefeld.de
END:VEVENT
END:VCALENDAR