BEGIN:VCALENDAR
VERSION:2.0
PRODID:-//Veranstaltungen Krefeld - ECPv6.6.0.2//NONSGML v1.0//EN
CALSCALE:GREGORIAN
METHOD:PUBLISH
X-WR-CALNAME:Veranstaltungen Krefeld
X-ORIGINAL-URL:https://veranstaltung.krefeld651.de
X-WR-CALDESC:Veranstaltungen für Veranstaltungen Krefeld
REFRESH-INTERVAL;VALUE=DURATION:PT1H
X-Robots-Tag:noindex
X-PUBLISHED-TTL:PT1H
BEGIN:VTIMEZONE
TZID:Europe/Berlin
BEGIN:DAYLIGHT
TZOFFSETFROM:+0100
TZOFFSETTO:+0200
TZNAME:CEST
DTSTART:20250330T010000
END:DAYLIGHT
BEGIN:STANDARD
TZOFFSETFROM:+0200
TZOFFSETTO:+0100
TZNAME:CET
DTSTART:20251026T010000
END:STANDARD
END:VTIMEZONE
BEGIN:VEVENT
DTSTART;TZID=Europe/Berlin:20251104T150000
DTEND;TZID=Europe/Berlin:20251128T180000
DTSTAMP:20260422T143526
CREATED:20251027T091451Z
LAST-MODIFIED:20251027T091451Z
UID:10006415-1762268400-1764352800@veranstaltung.krefeld651.de
SUMMARY:Nihil novi: Anthropogene Landschaften des Alltags in Polen - Tomasz Lewandowski (2019–ongoing) - Ausstellung
DESCRIPTION:Seit einigen Jahren dokumentiert Tomasz Lewandowski die Auswirkungen des Anthropozäns auf die Landschaft der Alltagsräume in Polen. Die von ihm untersuchten Orte befinden sich außerhalb der restaurierten Zentren der Großstädte und bleiben oft von der Gesellschaft quasi unbemerkt. Ihre angebliche Anonymität beruht darauf\, dass sie der natürliche Lebensraum von Millionen Menschen sind. Obwohl sie den allgemein anerkannten Charakter von Städten und Regionen in der Logik der Wahrnehmung nicht prägen\, sind sie der wichtigste Hintergrund für das alltägliche Leben sowie Kulisse für die dort sich abspielenden sozialen und politischen Prozesse. Daher erzählen diese Orte uns auf authentische Weise mehr über die mentale Verfassung der Gesellschaft\, die sie bewohnt. Denn Alltagsräume werden direkt von ihren Bewohnern gestaltet\, oft unbewusst und ungeachtet offizieller Entwicklungspläne und herrschender Kanons. Diese auf individueller Initiative basierende Gestaltung der eigenen Umgebung „von unten nach oben“ führt zu ihrer Fragmentierung und erinnert uns zugleich in gewisser Weise an die ursprüngliche Natur der menschlichen Lebensräume zum Beginn der Zivilisation. \nBei der Arbeit an seiner Dokumentation kombiniert Tomasz Lewandowski Bilder von anthropogenen Landschaftsmotiven mit zufällig entstandenen Porträts. Auf diese Weise werden die auf den Fotografien gezeigten Räume personifiziert und wirken nicht länger wie anonyme Kulissen. Die Porträts betonen zudem die Rolle des Anthropozäns in unserer Wahrnehmung des auf einer Fotografie abgebildeten Ausschnitts der Realität. \nThomasz Lewandowski (Fotografie) nutzt verschiedene\, fotografische Techniken\, um den Mikrokosmos vordefinierter Orte zu reflektieren. Thomasz Lewandowski lebt in Görlitz\, arbeitet grenzübergreifend gleichermaßen in Deutschland und in Polen.\nFür die Serie Nihil novi wurden Motive mit einer Plattenkamera auf großformatige Schwarz-Weiß-Negative aufgenommen\, die anschließend digitalisiert wurden.
URL:https://veranstaltung.krefeld651.de/event/nihil-novi-anthropogene-landschaften-des-alltags-in-polen-tomasz-lewandowski-2019-ongoing-ausstellung/
LOCATION:Südbahnhof\, Saumstr.9\, Krefeld\, NRW\, 47805\, Deutschland
ATTACH;FMTTYPE=image/jpeg:https://veranstaltung.krefeld651.de/wp-content/uploads/2025/10/Nihil-novi-LEGNICA_NOWA_2020-1.jpg
ORGANIZER;CN="Werkhaus e.V.":MAILTO:info@werkhaus-krefeld.de
END:VEVENT
BEGIN:VEVENT
DTSTART;TZID=Europe/Berlin:20251110T160000
DTEND;TZID=Europe/Berlin:20251110T170000
DTSTAMP:20260422T143526
CREATED:20251029T075715Z
LAST-MODIFIED:20251029T075715Z
UID:10006737-1762790400-1762794000@veranstaltung.krefeld651.de
SUMMARY:Barber‘s Puppentheater für Kinder gastiert vom 2. - 10.11.2025 in Krefeld
DESCRIPTION:Mit farbenprächtigen Figuren und Bühnenbildern ist Barber‘s Puppentheater für Kinder und deren Familien seit vielen Jahren auf Tournee und begeistert mit außergewöhnlichen Puppenspielen. Die bezaubernden Stockhandpuppen gewinnen während des Spiels an Lebhaftigkeit\, ziehen Klein und Groß in ihren Bann und lassen die Umwelt vergessen. Geeignet für Kinder und Junggebliebene ab 2 Jahren. \nWO:\nTheaterzelt\nSprödentalplatz\n47799 Krefeld \nWANN und WAS:\n2. – 10.11.2025\n(Di. + Mi. keine Vorstellung) \nDas NEINhorn\nMo. 16:00 Uhr / Sa. + So. 11:00 Uhr \nDas Puppenspiel zum Kinderbuch von Marc Uwe Kling und Astrid Henn\nIm Herzwald kommt ein schnickeldischnuckeliges Einhorn zur Welt. Alle sind ganz lilalieb zu ihm und füttern es ständig mit gezuckertem Glücksklee\, aber das Tierchen benimmt sich trotzdem ganz und gar nicht einhornmäßig! Es sagt einfach immer „Nein“\, so dass seine Familie es bald nur noch NEINhorn nennt. \nEines Tages bricht das NEINhorn aus seiner Zuckerwattewelt aus. Es trifft einen Waschbären\, der nicht zuhören will\, einen Hund\, dem echt alles schnuppe ist und eine Prinzessin\, die immer Widerworte gibt. Die vier sind ein ziemlich gutes Team. Denn sogar bockig sein macht zusammen viel mehr Spaß! \nDer kleine Rabe Socke\nDo. + Fr. 16:00 Uhr / Sa. + So. 15:00 Uhr \nNach dem Kinderbuch von Nele Moost und Annet Rudolph\nDer freche Rabe kommt in eure Stadt. In den Geschichten „Alles Gemerkt“ und „Alles Mutig“ geht es lustig\, spannend und zugleich lehrreich zu. Socke hat auch gleich eine Menge Freunde mitgebracht: Eddi Bär – Hase Löffel – das Schaf Wolle – der Dachs sowie Frau Eule und viele andere mehr… SCHAU EINFACH REIN! \nEINTRITTSPREIS:\nTicket 12 € / pro Person – ausschließlich an der Theaterkasse erhältlich.\nBei Vorlage eines Ermäßigungsgutscheins\, eines Zeitungsartikels\, eines Plakatfotos oder eines Screenshots aus dem Internet wird pro Person an der Theaterkasse der Eintrittspreis um 1 € ermäßigt. \nEinlass: 30 Minuten vor Veranstaltungsbeginn\nDauer der Veranstaltung: 60 Minuten einschl. Pause \nHotline: 01577 7057287\nhttp://www.puppentheater-fuer-kinder.de/
URL:https://veranstaltung.krefeld651.de/event/barbers-puppentheater-fuer-kinder-gastiert-vom-2-10-11-2025-in-krefeld/2025-11-10/
LOCATION:Sprödentalplatz\, Sprödentalstraße\, Krefeld\, NRW\, 47799\, Deutschland
CATEGORIES:Für Kinder,Theater
ATTACH;FMTTYPE=image/jpeg:https://veranstaltung.krefeld651.de/wp-content/uploads/2025/10/0-Plakat-Krefeld.jpg
ORGANIZER;CN="Barber%E2%80%98s Puppentheater f%C3%BCr Kinder":MAILTO:info@puppentheater-fuer-kinder.de
END:VEVENT
END:VCALENDAR