BEGIN:VCALENDAR
VERSION:2.0
PRODID:-//Veranstaltungen Krefeld - ECPv6.6.0.2//NONSGML v1.0//EN
CALSCALE:GREGORIAN
METHOD:PUBLISH
X-WR-CALNAME:Veranstaltungen Krefeld
X-ORIGINAL-URL:https://veranstaltung.krefeld651.de
X-WR-CALDESC:Veranstaltungen für Veranstaltungen Krefeld
REFRESH-INTERVAL;VALUE=DURATION:PT1H
X-Robots-Tag:noindex
X-PUBLISHED-TTL:PT1H
BEGIN:VTIMEZONE
TZID:Europe/Berlin
BEGIN:DAYLIGHT
TZOFFSETFROM:+0100
TZOFFSETTO:+0200
TZNAME:CEST
DTSTART:20250330T010000
END:DAYLIGHT
BEGIN:STANDARD
TZOFFSETFROM:+0200
TZOFFSETTO:+0100
TZNAME:CET
DTSTART:20251026T010000
END:STANDARD
END:VTIMEZONE
BEGIN:VEVENT
DTSTART;TZID=Europe/Berlin:20251206T113000
DTEND;TZID=Europe/Berlin:20251206T120000
DTSTAMP:20260424T140951
CREATED:20251125T105507Z
LAST-MODIFIED:20251125T105507Z
UID:10007302-1765020600-1765022400@veranstaltung.krefeld651.de
SUMMARY:Adventsmusik zur Marktzeit mit dem Vokalensemble St. Dionysius
DESCRIPTION:Die erste Adventsmusik zur Marktzeit findet am Samstag\, den 6. Dezember\, um 11:30 Uhr in der Stadtpfarrkirche St. Dionysius statt. Sie wird durch das Vokalensemble St. Dionysius unter der Leitung von Regionalkantor Niklas Piel gestaltet. Auf dem Programm stehen Chorwerke von Josef Gabriel Rheinberger\, u. a. seine neun Adventmotetten. Der Eintritt ist frei.
URL:https://veranstaltung.krefeld651.de/event/adventsmusik-zur-marktzeit-mit-dem-vokalensemble-st-dionysius/
LOCATION:Stadtpfarrkirche St. Dionysius\, Dionysiusplatz\, Krefeld\, 47798\, Deutschland
CATEGORIES:Konzert,Musik
ORGANIZER;CN="Kath. Kirchengemeinde Papst Johannes XXIII.":MAILTO:niklas.piel@bistum-aachen.de
END:VEVENT
BEGIN:VEVENT
DTSTART;TZID=Europe/Berlin:20251206T120000
DTEND;TZID=Europe/Berlin:20251206T180000
DTSTAMP:20260424T140951
CREATED:20251124T093954Z
LAST-MODIFIED:20251124T093954Z
UID:10006914-1765022400-1765044000@veranstaltung.krefeld651.de
SUMMARY:Puppenbühne „Senfkörnchen“ – Geschichten für Groß und Klein
DESCRIPTION:Erlebt zwei Tage voll Fantasie: Die Puppenbühne Senfkörnchen präsentiert am 6. und 7. Dezember jeweils von 12:00 bis 18:00 Uhr siebenmal im Stundentakt am nördlichen Tipi-Zelt magische Geschichten. Kommt vorbei und lasst euch von liebenswerten Figuren in eine wunderbare Welt entführen – perfekt für Familien und Puppenfreundinnen und -freunde jeden Alters.
URL:https://veranstaltung.krefeld651.de/event/puppenbuehne-senfkoernchen-geschichten-fuer-gross-und-klein/2025-12-06/
LOCATION:Dionysiusplatz Krefeld
CATEGORIES:Für Kinder,Theater
ATTACH;FMTTYPE=image/jpeg:https://veranstaltung.krefeld651.de/wp-content/uploads/2025/11/MIK-005_Leonie-Winter-Christina-Wigge-scaled.jpg
ORGANIZER;CN="Stadtmarketing Krefeld":MAILTO:https://www.krefeld.de/miks
END:VEVENT
BEGIN:VEVENT
DTSTART;TZID=Europe/Berlin:20251206T150000
DTEND;TZID=Europe/Berlin:20251206T160000
DTSTAMP:20260424T140951
CREATED:20251128T130134Z
LAST-MODIFIED:20251128T130134Z
UID:10007325-1765033200-1765036800@veranstaltung.krefeld651.de
SUMMARY:Autorenlesung "Krefeld in 65 Geschichten"
DESCRIPTION:Kennen Sie die Geschichte Krefelds? Mit der Unterzeichnung einer Urkunde durch Kaiser Karl IV. am 1. Oktober 1373 in Prag wird aus dem Dorf die Stadt Krefeld. Anlässlich des 650. Stadtjubiläums blickte das Stadtarchiv in chronologischer Folge mit Geschichten und Anekdoten in die Vergangenheit. Sie umfassen spannende\, freudige\, aber auch tragische Ereignisse. Auf lebendige Weise lässt sich so die Entwicklung der Stadt über die Jahrhunderte nachvollziehen. \nPräsentiert von: Michaela Plattenteich studierte Geschichte\, Kunstgeschichte und Germanistik in Innsbruck und Bonn und lebt als Kunstjournalistin in Krefeld. Seit 1996 schreibt sie regelmäßig Artikel für die Westdeutsche Zeitung\, sowie Beträge und Aufsätze zu kulturhistorischen Themen und Texten zu Ausstellungseröfnungen. Von 2010 bis 2023 Vorsitzende des Verins Literatur in Krefeld e.V.
URL:https://veranstaltung.krefeld651.de/event/autorenlesung-krefeld-in-65-geschichten/
LOCATION:Thalia Krefeld\, Hochstr. 96-100\, Krefeld\, NRW\, 47798\, Deutschland
CATEGORIES:Lesung,Literatur
ATTACH;FMTTYPE=image/jpeg:https://veranstaltung.krefeld651.de/wp-content/uploads/2025/11/titel_kre_in_65_gesch.jpg
ORGANIZER;CN="Thalia Krefeld":MAILTO:thalia.krefeld@thalia.de
END:VEVENT
BEGIN:VEVENT
DTSTART;TZID=Europe/Berlin:20251206T170000
DTEND;TZID=Europe/Berlin:20251206T183000
DTSTAMP:20260424T140951
CREATED:20251124T095345Z
LAST-MODIFIED:20251124T095345Z
UID:10006894-1765040400-1765045800@veranstaltung.krefeld651.de
SUMMARY:Papiertheater "Es weihnachtet -Pastoralka"
DESCRIPTION:We weihnachtet – Pastoralka \nIn der Hölle ist die Hölle los: Gott hat wieder mal etwas Neues ausgedacht. Nicht genug\, dass er den Menschen alle Sünden verziehen hat\, jetzt schickt er seinen eigenen Sohn auf die Erde\, damit er wie ein Mensch lebt. Gott lässt einfach nicht locker!!! \nDie Pastoralka ist eine Geschichte zwischen Himmel und Hölle mit Erde und Menschen im Mittelpunkt. Eine Weihnachtsgeschichte so wie man sie in Polen zu erzählen pflegt.\nBühne von Tatiana von Stülpnagel
URL:https://veranstaltung.krefeld651.de/event/papiertheater-es-weihnachtet-pastoralka/2025-12-06/1/
LOCATION:Pater Julius Haus\, Hülser Str. 576\, Krefeld\, NRW\, 47803\, Deutschland
CATEGORIES:Theater
ATTACH;FMTTYPE=image/jpeg:https://veranstaltung.krefeld651.de/wp-content/uploads/2025/11/IMG_4513-2-2.jpeg
ORGANIZER;CN="Lukasz Ratajczak":MAILTO:papiertheaterkrefeld2018@gmail.com
END:VEVENT
BEGIN:VEVENT
DTSTART;TZID=Europe/Berlin:20251206T170000
DTEND;TZID=Europe/Berlin:20251206T183000
DTSTAMP:20260424T140951
CREATED:20251125T132006Z
LAST-MODIFIED:20251125T132006Z
UID:10007305-1765040400-1765045800@veranstaltung.krefeld651.de
SUMMARY:Brass im Advent
DESCRIPTION:Brass in Concert im Advent \nAuch in diesem Jahr lädt das symphonische Blasorchester aus Mönchengladbach unter Leitung von Enrique Carlsson zu seinem traditionellen Adventskonzert am 6.12.25 um 17.00 Uhr in die Kirche St. Dionysius\, Dionysiusplatz 22 in Krefeld-Mitte ein. \nGenießen Sie mit besinnlicher und fröhlicher Musik die Adventszeit. Es erklingen u.a. die Ouvertüre zu „Hänsel und Gretel“\, Choräle aus dem „Weihnachtsoratorium“ von Bach sowie beschwingte Arrangements bekannter Weihnachtslieder. \nEinlass ist ab 16.30Uhr. Der Eintritt ist frei.
URL:https://veranstaltung.krefeld651.de/event/brass-im-advent/
LOCATION:St. Dionysius Krefeld\, Dionysiusplatz 22\, 47788 Krefeld\, NRW\, 47788\, Deutschland
CATEGORIES:Konzert,Musik
ATTACH;FMTTYPE=image/jpeg:https://veranstaltung.krefeld651.de/wp-content/uploads/2025/11/Bild-BIC-hohe-Aufloesung-scaled.jpg
ORGANIZER;CN="Brass in concert e.V.":MAILTO:info@brass-in-concert.de
END:VEVENT
BEGIN:VEVENT
DTSTART;TZID=Europe/Berlin:20251206T180000
DTEND;TZID=Europe/Berlin:20251206T191500
DTSTAMP:20260424T140951
CREATED:20251031T131522Z
LAST-MODIFIED:20251031T131522Z
UID:10006747-1765044000-1765048500@veranstaltung.krefeld651.de
SUMMARY:Weihnachtskonzert der silk-O-phonics
DESCRIPTION:Wenn sich die Weihnachtsstimmung noch nicht so ganz einstellen will\, die silk-O-phonics helfen gerne nach. Der Krefelder Acapella Jazzchor freut sich auf das traditionelle Weihnachtskonzert in der Pauluskirche Krefeld \nDer Eintritt ist wie jedes Jahr frei\, wir freuen uns aber über Spenden.
URL:https://veranstaltung.krefeld651.de/event/weihnachtskonzert-der-silk-o-phonics/
LOCATION:Pauluskirche Krefeld\, Hülser Straße 171\, Krefeld\, NRW\, 47803\, Deutschland
CATEGORIES:Konzert,Musik
ATTACH;FMTTYPE=image/jpeg:https://veranstaltung.krefeld651.de/wp-content/uploads/2025/10/Flyer_2025_Weihnacht_A.jpg
ORGANIZER;CN="silk-O-phonics":MAILTO:u.schulz@architektkrefeld.de
END:VEVENT
BEGIN:VEVENT
DTSTART;TZID=Europe/Berlin:20251206T180000
DTEND;TZID=Europe/Berlin:20251206T230000
DTSTAMP:20260424T140951
CREATED:20251103T083353Z
LAST-MODIFIED:20251103T083353Z
UID:10006750-1765044000-1765062000@veranstaltung.krefeld651.de
SUMMARY:Weihnachtsbuffet im Casino
DESCRIPTION:Genießen Sie ein festliches Weihnachtsbuffet im exklusiven Ambiente des Casinos. In einer stimmungsvollen\, weihnachtlich dekorierten Atmosphäre erwartet Sie ein umfangreiches Angebot an kulinarischen Köstlichkeiten. Von traditionellen Weihnachtsgerichten bis hin zu internationalen Spezialitäten finden Sie garantiert das perfekte Gericht für Ihr Gaumenvergnügen. Genießen Sie die festliche Stimmung\, das elegante Ambiente und die erlesenen Weine in dieser besonderen Weihnachtszeit.
URL:https://veranstaltung.krefeld651.de/event/weihnachtsbuffet-im-casino-3/
LOCATION:Casino Uerdingen\, Casinogasse 1\, Krefeld\, NRW\, 47829\, Deutschland
CATEGORIES:Essen&Trinken
ATTACH;FMTTYPE=image/png:https://veranstaltung.krefeld651.de/wp-content/uploads/2025/11/Weihnachten-im-Casino-Flyer-A4_20250922_215231_0000.png
ORGANIZER;CN="Freitag":MAILTO:info@casino-eventlocation.de
END:VEVENT
BEGIN:VEVENT
DTSTART;TZID=Europe/Berlin:20251206T190000
DTEND;TZID=Europe/Berlin:20251206T203000
DTSTAMP:20260424T140951
CREATED:20251124T095345Z
LAST-MODIFIED:20251124T095345Z
UID:10006895-1765047600-1765053000@veranstaltung.krefeld651.de
SUMMARY:Papiertheater "Es weihnachtet -Pastoralka"
DESCRIPTION:We weihnachtet – Pastoralka \nIn der Hölle ist die Hölle los: Gott hat wieder mal etwas Neues ausgedacht. Nicht genug\, dass er den Menschen alle Sünden verziehen hat\, jetzt schickt er seinen eigenen Sohn auf die Erde\, damit er wie ein Mensch lebt. Gott lässt einfach nicht locker!!! \nDie Pastoralka ist eine Geschichte zwischen Himmel und Hölle mit Erde und Menschen im Mittelpunkt. Eine Weihnachtsgeschichte so wie man sie in Polen zu erzählen pflegt.\nBühne von Tatiana von Stülpnagel
URL:https://veranstaltung.krefeld651.de/event/papiertheater-es-weihnachtet-pastoralka/2025-12-06/2/
LOCATION:Pater Julius Haus\, Hülser Str. 576\, Krefeld\, NRW\, 47803\, Deutschland
CATEGORIES:Theater
ATTACH;FMTTYPE=image/jpeg:https://veranstaltung.krefeld651.de/wp-content/uploads/2025/11/IMG_4513-2-2.jpeg
ORGANIZER;CN="Lukasz Ratajczak":MAILTO:papiertheaterkrefeld2018@gmail.com
END:VEVENT
BEGIN:VEVENT
DTSTART;TZID=Europe/Berlin:20251206T200000
DTEND;TZID=Europe/Berlin:20251206T223000
DTSTAMP:20260424T140951
CREATED:20251114T114245Z
LAST-MODIFIED:20251114T114245Z
UID:10006775-1765051200-1765060200@veranstaltung.krefeld651.de
SUMMARY:Florian Hacke - AUTHENTISCHKEIT
DESCRIPTION:“AUTHENTISCHKEIT” der einzig wahre Satireabend mit Florian Hacke \nImmer heisst es “Sei einfach du selbst!” – aber was\, wenn du selbst auch nur müdes Mittelmass bist? “Authentizität” ist nicht nur schwer zu buchstabieren\, sonder auch meist der Beginn einer lebenslangen Enttäuschung. Für alle! Auch Florian Hacke hat wirklich lange versucht\, “einfach er selbst zu sein” und gleichzeitig seine Mitmenschen zu respektieren\, aber mit mittlerweile drei kleinen Kindern bleibt einfach keine Kraft für langfristige Lebenslügen. Deswegen setzt er jetzt auf glaubwürdelose Ehrlichkeit und macht der Welt ein niedrigschwelliges Angebot: Er hindert niemanden aktiv daran\, das Beste von ihm zu halten\, aber wenn man ihn ehrlich fragt\, dann kann er für nichts garantieren. Sei auch du mit dabei – live\, echt\, mit ohne Filter. “Authentischkeit” ist deine Chance\, einen Abend lang genau das Wrack zu sein\, das auch dir jeden morgen aus dem Badezimmerspiegel entgegenblickt. Ohne Druck. Ohne Anspruch. Aber mit Sekt. Damit du hinterher sagen kannst: “Ach\, im Vergleich gehts mir doch gar nicht so schlecht!” \nPressestimmen  \n“Florian Hacke zeigt sich als Könner des Fachs. Kabarett oder Comedy? Völlig egal. Wichtig ist: Hackes Witz ist intelligent und geistreich\, und er biedert sich bei keinem an.” – Lübecker Nachrichten \n„Hacke schlägt drauf\, zynisch\, bissig\, raffiniert… Ein kritischer\, inhaltlich wie formal wuchtiger Auftritt\, für den es verdiente Bravo-Rufe hagelte“ – Saarbrücker Zeitung \nLinks  \nYoutube: Früher war alles besser Instagram: @florianhacke \nYoutube: Männerfreundschaft \nYoutube: Restefi**en auf der Ü40 Party \n \n* Einlass 19:00 Uhr\n** Parken auf dem Parkplatz gegenüber für Veranstaltungen möglich\n*** Ticketpreise zzgl. 1 € System-Gebühren von Reservix
URL:https://veranstaltung.krefeld651.de/event/florian-hacke-authentischkeit/
LOCATION:Südbahnhof\, Saumstr.9\, Krefeld\, NRW\, 47805\, Deutschland
CATEGORIES:Bildung,Comedy,Kabarett
ATTACH;FMTTYPE=image/png:https://veranstaltung.krefeld651.de/wp-content/uploads/2025/11/Florian-Hacke-AUTHENTISCHKEIT-Schwarzer-Hintergrund-Quer-scaled.png
ORGANIZER;CN="Werkhaus e.V.":MAILTO:info@werkhaus-krefeld.de
END:VEVENT
END:VCALENDAR