BEGIN:VCALENDAR
VERSION:2.0
PRODID:-//Veranstaltungen Krefeld - ECPv6.6.0.2//NONSGML v1.0//EN
CALSCALE:GREGORIAN
METHOD:PUBLISH
X-WR-CALNAME:Veranstaltungen Krefeld
X-ORIGINAL-URL:https://veranstaltung.krefeld651.de
X-WR-CALDESC:Veranstaltungen für Veranstaltungen Krefeld
REFRESH-INTERVAL;VALUE=DURATION:PT1H
X-Robots-Tag:noindex
X-PUBLISHED-TTL:PT1H
BEGIN:VTIMEZONE
TZID:Europe/Berlin
BEGIN:DAYLIGHT
TZOFFSETFROM:+0100
TZOFFSETTO:+0200
TZNAME:CEST
DTSTART:20250330T010000
END:DAYLIGHT
BEGIN:STANDARD
TZOFFSETFROM:+0200
TZOFFSETTO:+0100
TZNAME:CET
DTSTART:20251026T010000
END:STANDARD
END:VTIMEZONE
BEGIN:VEVENT
DTSTART;TZID=Europe/Berlin:20251209T190000
DTEND;TZID=Europe/Berlin:20251209T210000
DTSTAMP:20260424T130343
CREATED:20251027T090234Z
LAST-MODIFIED:20251027T090234Z
UID:10006702-1765306800-1765314000@veranstaltung.krefeld651.de
SUMMARY:emergent beauty - alle Götter* sind frei - Videoinstallation auf der Stadtterasse
DESCRIPTION:Emergent Beauty\, eine Lichtinstallation\, untersucht das Momentane und Unvorhersehbare. In der Projektion verdichten sich Licht und Bewegung flüchtigen Mustern\, die erst im Akt der Wahrnehmung zur Schönheit werden. Haut – Samt – Körper wird im digitalen zu einem Glitsch. Das Entstehende entzieht sich der Kontrolle. Aus dem was wir beobachten\, wir nur erahnen können\, bauen wir nach eigener Vorstellungskraft einen einzigartigen Augenblick. Das ist eine Emergenz.   \nOder anders gefragt: Ist die Schönheit\, die aus Zufall und durch Fehler entsteht nicht die liebenswerteste? \nNazgol Emami Andreas Simon\nVideoinstallation auf der Stadtterasse \n\nSonntag\, 9.11.2025\, 19 Uhr\nSamstag\, 15.11.2025\, 19 Uhr\nSonntag\, 16.11.2025\, 19 Uhr\nDienstag\, 2.12.2025\, 19 Uhr\nDienstag\, 9.12.2025\, 19 Uhr\nSonntag\, 14.12.2025\, 19 Uhr\n\nDie Reihe\nON TOP\ndes Werkhaus e.V. gehört zur soziokulturellen Konzeptgeförderung durch das Ministerium für Kultur und Wissenschaft über Soziokultur NRW.
URL:https://veranstaltung.krefeld651.de/event/emergent-beauty-alle-goetter-sind-frei-videoinstallation-auf-der-stadtterasse/2025-12-09/
LOCATION:Südbahnhof\, Saumstr.9\, Krefeld\, NRW\, 47805\, Deutschland
CATEGORIES:Bildung,Kunst
ATTACH;FMTTYPE=image/png:https://veranstaltung.krefeld651.de/wp-content/uploads/2025/10/emergent-beauty-ON_TOP_Logo_schwarz-8.png
ORGANIZER;CN="Werkhaus e.V.":MAILTO:info@werkhaus-krefeld.de
END:VEVENT
BEGIN:VEVENT
DTSTART;TZID=Europe/Berlin:20251209T190000
DTEND;TZID=Europe/Berlin:20251209T220000
DTSTAMP:20260424T130343
CREATED:20250708T122040Z
LAST-MODIFIED:20250708T122040Z
UID:10004784-1765306800-1765317600@veranstaltung.krefeld651.de
SUMMARY:Das Kriminal Dinner - Krimidinner für Jung und Alt
DESCRIPTION:Schauer oder ein Genuss für den Gaumen? Hier kommen beide Sachen zusammen! Erleben Sie ein schauriges Dinner während unsere professionellen Darsteller Sie in die Lage eines Ermittlers bei einem spannenden Kriminalfall versetzen. \nDas 1857. niederrheinische Wirtshaus im Haus Wirichs ist mehr als nur ein Restaurant – es ist ein Stück lebendige Geschichte. Seit 1857 werden hier Gäste mit kulinarischen Köstlichkeiten verwöhnt\, und auch heute noch ist das Wirtshaus ein Ort\, an dem Tradition auf modernen Genuss trifft. „In unserer Lokation ist Gastronomie seit 1857 beheimatet“\, und diese langjährige Erfahrung schmeckt man bei jedem Bissen. \nDas liebevoll restaurierte Gebäude strahlt eine heimelige Atmosphäre aus\, die sofort zum Verweilen einlädt. Perfekter Schau Ort für ein Mord! Dabei bietet die Speisekarte eine feine Auswahl regionaler Spezialitäten\, die mit viel Sorgfalt und Liebe in einem köstlichen 3-Gänge Menü zubereitet werden. Unvergessliche Abende\, wie das beliebte Krimidinner Krefeld\, machen das Wirtshaus zu einem Ort\, an dem Geschichte lebendig wird und kulinarische Erlebnisse mit spannender Unterhaltung kombiniert werden. Hier wird jeder Besuch zu einem besonderen Ereignis\, das man so schnell nicht vergisst.
URL:https://veranstaltung.krefeld651.de/event/das-kriminal-dinner-krimidinner-fuer-jung-und-alt-3/2025-12-09/
LOCATION:1857. niederrheinisches Wirtshaus im Haus Wirichs\, Hochstraße 21\, Tönisvorst\, NRW\, 47918\, Deutschland
ATTACH;FMTTYPE=image/jpeg:https://veranstaltung.krefeld651.de/wp-content/uploads/2025/07/Das-Kriminal-Dinner-1.jpg
ORGANIZER;CN="engesser marketing gmbh":MAILTO:marketing@das-kriminal-dinner.de
END:VEVENT
BEGIN:VEVENT
DTSTART;TZID=Europe/Berlin:20251209T190000
DTEND;TZID=Europe/Berlin:20251209T220000
DTSTAMP:20260424T130343
CREATED:20251006T073921Z
LAST-MODIFIED:20251006T073921Z
UID:10006373-1765306800-1765317600@veranstaltung.krefeld651.de
SUMMARY:11. Krefelder Kulturstammtisch im Kulturpunkt der Friedenskirche
DESCRIPTION:Krefelder Kulturstammtisch am Dienstag\, 09. Dezember 2025 im Kultur.Punkt Friedenskirche \nDie Veranstaltung richtet sich an Krefelder Kunst- und Kulturschaffende und bietet Raum zum Kennenlernen\, Vernetzen\, Austauschen und Ideen entwickeln.\nZu Beginn des Stammtischs können die Teilnehmenden Vernetzungsideen und Projekte innerhalb der Kulturszene vorstellen. Im Anschluss gibt es die Gelegenheit\, darüber ins Gespräch zu kommen und neue Kooperationen zu entdecken. Zudem soll es wie bei den vorherigen Treffen\, Raum zum Kennenlernen und offenen Austausch geben. \nHinter der Idee und der Organisation des Stammtischs stehen die Kulturschaffenden Pe Krieger\, Jan Paul Pichol und Christina Wouters. Der Stammtisch findet einmal im Quartal statt. Bisherige Veranstaltungsorte waren die Kulturrampe am Großmarkt\, die Kulturfabrik Krefeld\, der AstA-Keller der Hochschule Niederrhein\, der Jazzkeller\, Freischwimmer e.V.\, der Südbahnhof Krefeld\, das Theater Krefeld und das Klärwerk. \nDie Teilnahme am Kulturstammtisch ist kostenfrei und es ist kein Ticket erforderlich. Für die Organisation des Abends wird im Vorfeld lediglich eine namentliche Online-Anmeldung oder per Mail an krefelderkulturstammtisch@web.de bis zum einschl. 07.12.2025 erbeten. https://nuudel.digitalcourage.de/Caags17GxYaWrKws \nDer Veranstaltungsort ist Kulturpunkt Friedenskirche\, Luisenplatz 1\, 47799 Krefeld
URL:https://veranstaltung.krefeld651.de/event/11-krefelder-kulturstammtisch-im-kulturpunkt-der-friedenskirche/
LOCATION:Kulturpunkt Friedenskirche\, Luisenplatz 1\, Krefeld\, Nordrhein-Westfalen\, 47799\, Deutschland
CATEGORIES:Networking
ATTACH;FMTTYPE=image/jpeg:https://veranstaltung.krefeld651.de/wp-content/uploads/2025/10/11.-Stammtisch.jpeg
END:VEVENT
END:VCALENDAR