BEGIN:VCALENDAR
VERSION:2.0
PRODID:-//Veranstaltungen Krefeld - ECPv6.6.0.2//NONSGML v1.0//EN
CALSCALE:GREGORIAN
METHOD:PUBLISH
X-ORIGINAL-URL:https://veranstaltung.krefeld651.de
X-WR-CALDESC:Veranstaltungen für Veranstaltungen Krefeld
REFRESH-INTERVAL;VALUE=DURATION:PT1H
X-Robots-Tag:noindex
X-PUBLISHED-TTL:PT1H
BEGIN:VTIMEZONE
TZID:Europe/Berlin
BEGIN:DAYLIGHT
TZOFFSETFROM:+0100
TZOFFSETTO:+0200
TZNAME:CEST
DTSTART:20250330T010000
END:DAYLIGHT
BEGIN:STANDARD
TZOFFSETFROM:+0200
TZOFFSETTO:+0100
TZNAME:CET
DTSTART:20251026T010000
END:STANDARD
END:VTIMEZONE
BEGIN:VEVENT
DTSTART;TZID=Europe/Berlin:20251210T170000
DTEND;TZID=Europe/Berlin:20251210T200000
DTSTAMP:20260424T114515
CREATED:20250708T121728Z
LAST-MODIFIED:20250708T121728Z
UID:10004781-1765386000-1765396800@veranstaltung.krefeld651.de
SUMMARY:Das Kriminal Dinner - Krimidinner für Jung und Alt
DESCRIPTION:Inmitten des Krefelder Stadtwaldes befindet sich das schöne Stadtwaldhaus – Schauplatz unseres Krimidinner Krefeld. Der schöne Saal der Waldschänke bildet das perfekte Ambiente für einen spannenden Mord. \nÜberführen Sie gemeinsam mit uns den Täter und bringen Sie Licht in dunkle Geheimnisse. Frisch serviert zum Mordfall wird Ihnen ein vorzügliches Gänge-Menü. Erleben Sie einen unvergesslichen Abend voller Spannung und Rätsel bei unserem Krimidinner Krefeld.
URL:https://veranstaltung.krefeld651.de/event/das-kriminal-dinner-krimidinner-fuer-jung-und-alt-2/2025-12-10/
LOCATION:Stadtwaldhaus\, Hüttenallee 108\, KRefeld\, 47800\, Deutschland
ATTACH;FMTTYPE=image/jpeg:https://veranstaltung.krefeld651.de/wp-content/uploads/2025/07/Das-Kriminal-Dinner.jpg
ORGANIZER;CN="engesser marketing gmbh":MAILTO:marketing@das-kriminal-dinner.de
END:VEVENT
END:VCALENDAR