BEGIN:VCALENDAR
VERSION:2.0
PRODID:-//Veranstaltungen Krefeld - ECPv6.6.0.2//NONSGML v1.0//EN
CALSCALE:GREGORIAN
METHOD:PUBLISH
X-WR-CALNAME:Veranstaltungen Krefeld
X-ORIGINAL-URL:https://veranstaltung.krefeld651.de
X-WR-CALDESC:Veranstaltungen für Veranstaltungen Krefeld
REFRESH-INTERVAL;VALUE=DURATION:PT1H
X-Robots-Tag:noindex
X-PUBLISHED-TTL:PT1H
BEGIN:VTIMEZONE
TZID:Europe/Berlin
BEGIN:DAYLIGHT
TZOFFSETFROM:+0100
TZOFFSETTO:+0200
TZNAME:CEST
DTSTART:20250330T010000
END:DAYLIGHT
BEGIN:STANDARD
TZOFFSETFROM:+0200
TZOFFSETTO:+0100
TZNAME:CET
DTSTART:20251026T010000
END:STANDARD
END:VTIMEZONE
BEGIN:VEVENT
DTSTART;TZID=Europe/Berlin:20251215T080000
DTEND;TZID=Europe/Berlin:20251219T030000
DTSTAMP:20260422T184807
CREATED:20250804T123446Z
LAST-MODIFIED:20250804T123446Z
UID:10005790-1765785600-1766113200@veranstaltung.krefeld651.de
SUMMARY:22. Glühwein - Cabarett
DESCRIPTION:Auch 2025 erwarten euch wieder phantastische Humorkünstler.\nVom 14.12. 25 – 16.12. 25 bringen wir pünktlich vor dem Weihnachtsfest eure Lachmuskeln nochmal richtig in Form. \nFür euch im Dezember dabei: \nHildegart Scholten\nhttps://www.frauscholten.de/ \nSören Leyers:\nhttps://www.soerenleyers.com/ \nSabine Domogala: \nStartseite \n \nPeter Vollmer:\nhttps://www.peter-vollmer.de/ \nEinlass: 19 Uhr Beginn: 20 Uhr \nTickets für das Event: https://tickets.pekrieger.de/gc2025/ oder per mail an info@pekrieger.de \nWenn ihr vorher im Stadtwaldhaus a lá carte essen möchtet\, dann bitte hier einen Tisch reservieren: info@stadtwaldhaus.de\noder telefonisch unter T. 02151 593784 \nWir freuen uns auf euch!
URL:https://veranstaltung.krefeld651.de/event/22-gluehwein-cabarett/2025-12-15/
LOCATION:Stadtwaldhaus Krefeld\, Hüttenallee\, Krefeld\, NRW\, 47800\, Deutschland
ORGANIZER;CN="Pe Krieger":MAILTO:info@pekrieger.de
END:VEVENT
BEGIN:VEVENT
DTSTART;TZID=Europe/Berlin:20251215T170000
DTEND;TZID=Europe/Berlin:20251215T180000
DTSTAMP:20260422T184807
CREATED:20251124T095138Z
LAST-MODIFIED:20251124T095138Z
UID:10006899-1765818000-1765821600@veranstaltung.krefeld651.de
SUMMARY:Papiertheater- Der barmherzige Samariter
DESCRIPTION:Der Barmherzige Samariter – (ca. 60 min. inklusive einer  Bastel-Aktion zum Mitmachen) \nDas vielleicht wichtigste Gleichnis\, das Jesus uns hinterlassen hat\, wird als dramatische Erzählung gezeigt. \nFür Kinder ab Grundschulalter und Erwachsene. \nBühne von Angeliné Pelle – Henkel (www.meli-melo-kunst.de )\nMusik von  Ronald Kah (mindclouds-classic und horizon-teaser) https://ronaldkah.de
URL:https://veranstaltung.krefeld651.de/event/papiertheater-der-barmherzige-samariter/
LOCATION:Konventskirche Krefeld Hüls\, Konventstraße 13\, Krefeld-Hüls\, NRW\, 47839\, Deutschland
CATEGORIES:Theater
ATTACH;FMTTYPE=image/jpeg:https://veranstaltung.krefeld651.de/wp-content/uploads/2025/11/20210406_124027-scaled.jpg
ORGANIZER;CN="Lukasz Ratajczak":MAILTO:papiertheaterkrefeld2018@gmail.com
END:VEVENT
BEGIN:VEVENT
DTSTART;TZID=Europe/Berlin:20251215T190000
DTEND;TZID=Europe/Berlin:20251215T203000
DTSTAMP:20260422T184807
CREATED:20251124T095406Z
LAST-MODIFIED:20251124T095406Z
UID:10006897-1765825200-1765830600@veranstaltung.krefeld651.de
SUMMARY:Papiertheater "Es weihnachtet -Pastoralka"
DESCRIPTION:We weihnachtet – Pastoralka \nIn der Hölle ist die Hölle los: Gott hat wieder mal etwas Neues ausgedacht. Nicht genug\, dass er den Menschen alle Sünden verziehen hat\, jetzt schickt er seinen eigenen Sohn auf die Erde\, damit er wie ein Mensch lebt. Gott lässt einfach nicht locker!!! \nDie Pastoralka ist eine Geschichte zwischen Himmel und Hölle mit Erde und Menschen im Mittelpunkt. Eine Weihnachtsgeschichte so wie man sie in Polen zu erzählen pflegt.\nBühne von Tatiana von Stülpnagel
URL:https://veranstaltung.krefeld651.de/event/papiertheater-es-weihnachtet-pastoralka-2/2025-12-15/
LOCATION:Konventskirche Krefeld Hüls\, Konventstraße 13\, Krefeld-Hüls\, NRW\, 47839\, Deutschland
CATEGORIES:Theater
ATTACH;FMTTYPE=image/jpeg:https://veranstaltung.krefeld651.de/wp-content/uploads/2025/11/IMG_4513-2-2-1.jpeg
ORGANIZER;CN="Lukasz Ratajczak":MAILTO:papiertheaterkrefeld2018@gmail.com
END:VEVENT
END:VCALENDAR