BEGIN:VCALENDAR
VERSION:2.0
PRODID:-//Veranstaltungen Krefeld - ECPv6.6.0.2//NONSGML v1.0//EN
CALSCALE:GREGORIAN
METHOD:PUBLISH
X-ORIGINAL-URL:https://veranstaltung.krefeld651.de
X-WR-CALDESC:Veranstaltungen für Veranstaltungen Krefeld
REFRESH-INTERVAL;VALUE=DURATION:PT1H
X-Robots-Tag:noindex
X-PUBLISHED-TTL:PT1H
BEGIN:VTIMEZONE
TZID:Europe/Berlin
BEGIN:DAYLIGHT
TZOFFSETFROM:+0100
TZOFFSETTO:+0200
TZNAME:CEST
DTSTART:20250330T010000
END:DAYLIGHT
BEGIN:STANDARD
TZOFFSETFROM:+0200
TZOFFSETTO:+0100
TZNAME:CET
DTSTART:20251026T010000
END:STANDARD
END:VTIMEZONE
BEGIN:VEVENT
DTSTART;TZID=Europe/Berlin:20251215T080000
DTEND;TZID=Europe/Berlin:20251219T030000
DTSTAMP:20260424T114510
CREATED:20250804T123446Z
LAST-MODIFIED:20250804T123446Z
UID:10005790-1765785600-1766113200@veranstaltung.krefeld651.de
SUMMARY:22. Glühwein - Cabarett
DESCRIPTION:Auch 2025 erwarten euch wieder phantastische Humorkünstler.\nVom 14.12. 25 – 16.12. 25 bringen wir pünktlich vor dem Weihnachtsfest eure Lachmuskeln nochmal richtig in Form. \nFür euch im Dezember dabei: \nHildegart Scholten\nhttps://www.frauscholten.de/ \nSören Leyers:\nhttps://www.soerenleyers.com/ \nSabine Domogala: \nStartseite \n \nPeter Vollmer:\nhttps://www.peter-vollmer.de/ \nEinlass: 19 Uhr Beginn: 20 Uhr \nTickets für das Event: https://tickets.pekrieger.de/gc2025/ oder per mail an info@pekrieger.de \nWenn ihr vorher im Stadtwaldhaus a lá carte essen möchtet\, dann bitte hier einen Tisch reservieren: info@stadtwaldhaus.de\noder telefonisch unter T. 02151 593784 \nWir freuen uns auf euch!
URL:https://veranstaltung.krefeld651.de/event/22-gluehwein-cabarett/2025-12-15/
LOCATION:Stadtwaldhaus Krefeld\, Hüttenallee\, Krefeld\, NRW\, 47800\, Deutschland
ORGANIZER;CN="Pe Krieger":MAILTO:info@pekrieger.de
END:VEVENT
BEGIN:VEVENT
DTSTART;TZID=Europe/Berlin:20251219T150000
DTEND;TZID=Europe/Berlin:20251219T160000
DTSTAMP:20260424T114510
CREATED:20251208T070955Z
LAST-MODIFIED:20251208T070955Z
UID:10007333-1766156400-1766160000@veranstaltung.krefeld651.de
SUMMARY:Autorenlesung mit Sören Bollmann
DESCRIPTION:Der Himmel über Europa – Der in Duisburg geborene Autor Sören Bollmann stellt seinen Europa-Schmöker vor: Sieben EU-Abgeordnete aus sieben verschiedenen Ländern geraten im Herbst 2015 in Brüssel in eine terroristische Geiselnahme. Dank ihres mutigen und besonnenen Handelns geht die Geiselnahme glimpflich aus\, die EU ernennt ihre Helden zu Sonderbeauftragten für die Lösung aller Probleme Europas. Aufgrund einer Intervention aus dem Himmel eskaliert die Geschichte in einen fiktiven Krieg\, erneut in Bosnien-Herzegowina. Anhand des Lebens seiner sieben Protagonisten erzählt Sören Bollmann auf spannende Weise die Geschichte Europas der letzten vierzig Jahre.
URL:https://veranstaltung.krefeld651.de/event/autorenlesung-mit-soeren-bollmann/
LOCATION:Thalia Krefeld\, Hochstr. 96-100\, Krefeld\, NRW\, 47798\, Deutschland
CATEGORIES:Lesungen,Literatur
ATTACH;FMTTYPE=image/jpeg:https://veranstaltung.krefeld651.de/wp-content/uploads/2025/12/513M8kqVaFL._SL1000_.jpg
ORGANIZER;CN="Thalia Krefeld":MAILTO:thalia.krefeld@thalia.de
END:VEVENT
BEGIN:VEVENT
DTSTART;TZID=Europe/Berlin:20251219T180000
DTEND;TZID=Europe/Berlin:20251219T190000
DTSTAMP:20260424T114510
CREATED:20251125T074530Z
LAST-MODIFIED:20251125T074530Z
UID:10007285-1766167200-1766170800@veranstaltung.krefeld651.de
SUMMARY:Feierabend komm!
DESCRIPTION:Einfach nur sein – der musikalisch inspirierende Gottesdienst
URL:https://veranstaltung.krefeld651.de/event/feierabend-komm-2/2025-12-19/
LOCATION:Alte Kirche\, An der Alten Kirche 2\, Krefeld\, 47798
CATEGORIES:Ausstellung,Bildung,Konzert,Kunst,Lesung
ATTACH;FMTTYPE=image/jpeg:https://veranstaltung.krefeld651.de/wp-content/uploads/2025/11/IMG_20251103_200138-scaled.jpg
ORGANIZER;CN="Citykirche Krefeld":MAILTO:falk.schoeller@ekir.de
END:VEVENT
BEGIN:VEVENT
DTSTART;TZID=Europe/Berlin:20251219T180000
DTEND;TZID=Europe/Berlin:20251219T193000
DTSTAMP:20260424T114510
CREATED:20251216T081151Z
LAST-MODIFIED:20251216T081151Z
UID:10007885-1766167200-1766172600@veranstaltung.krefeld651.de
SUMMARY:Musikalischer Adventszauber
DESCRIPTION:Am Freitag\, 19. Dezember\, 18 Uhr\, gibt es in der Alten Kirche Krefeld einen musikalischen Abendzauber. Kantorin Christiane Böckeler und Roland Stuers laden zum offenen Adventssingen ein\, Diakonin Elke Schöller trägt wunderbare Geschichten und Gedichte vor. \nIn den dunklen Tagen wollen wir auch Menschen eine Freude machen. Nicola Oetker-Hilker wird als Schirmherrin der Veranstaltung die Arbeit des Kinder- und Jugendheims Bruckhausen vorstellen – der Erlös des Abends kommt unmittelbar den Kindern vor Ort zugute. \nWally Althoff stellt derzeit in der Alten Kirche aus. “FRAGIL”\, so erleben viele Menschen heute unsere Zeit – und die Künstlerin greift dieses Lebensgefühl in ihren Werken auf\, verdichtet und veranschaulicht dies in eindrucksvollen Bildern und Installationen. \nAn diesem Abend wird eines ihrer Werke zugunsten des Kinder- und Jugendheims Bruckhausen versteigert. Bei Punsch und Glühwein besteht Gelegenheit\, den Abend miteinander ausklingen zu lassen.
URL:https://veranstaltung.krefeld651.de/event/musikalischer-adventszauber/
LOCATION:Alte Kirche Krefeld\, An der Alten Kirche 1\, Krefeld\, 47798\, Deutschland
CATEGORIES:Ausstellung,Bildung,Konzert,Lesung
ATTACH;FMTTYPE=image/jpeg:https://veranstaltung.krefeld651.de/wp-content/uploads/2025/12/WhatsApp-Image-2025-12-16-at-08.39.36-1.jpeg
ORGANIZER;CN="Citykirche Krefeld":MAILTO:falk.schoeller@ekir.de
END:VEVENT
BEGIN:VEVENT
DTSTART;TZID=Europe/Berlin:20251219T200000
DTEND;TZID=Europe/Berlin:20251219T223000
DTSTAMP:20260424T114510
CREATED:20251124T094538Z
LAST-MODIFIED:20251124T094538Z
UID:10006905-1766174400-1766183400@veranstaltung.krefeld651.de
SUMMARY:FLIEGENDE HAIE - NEUER TERMIN: Mein Ego sagt ich kann das - SHARP ELECTRO POP
DESCRIPTION:Verschoben vom 22.05.2025 \nAuf einmal alle hai: \nFliegende Haie auf großer MEIN EGO SAGT ICH KANN DAS-Tour! 27 Shows brachial ästhetisch. 27-mal der tanzbare Tabubruch. Die Haie sehen die Themen unserer Zeit und haben einen ausgeprägten Sinn dafür\, diese ihrem Schwarm zum Fressen vorzuwerfen und gemeinsam ekstatisch zu verdauen. \n\n\n\n\nScharf geschliffener Electro Pop\, der sich Stücke herausreißt aus Hyperpop\, Trap & Hardtekk; eine liebevolle Show\, positiv und weird\, sexy und theatralisch: Wer ein Haie-Konzert besucht\, findet sich in einem Raubfisch- Tornado wieder\, der zu Herzrasen führt – vor Freude und Adrenalin. \nIhre Show pumpt ein Spektakel mit Message durch die Clubs\, denn die beiden Raubfische filetieren mit ihrem Revolvergebiss veraltete Rollenbilder\, Geschlechterklischees und gesellschaftliche Normen. Sex ist Selfcare\, wir alle Partymäuse und\, wenn du raus möchtest aus dem Haifischbecken deines Lebens\, ist die Haie-Botschaft klar: Lass uns gemeinsam fliegen! \nOnline: \nhttps://www.instagram.com/fliegendehaieband/  \nhttps://www.facebook.com/fliegendehaieband/  \nhttps://www.tiktok.com/@fliegendehaieband  \nhttps://www.youtube.com/fliegendehaieband  \nhttps://open.spotify.com/artist/4029VTr0JpoJhz4C0766q5 \nhttps://fliegendehaie.com/ \n \n\n*Einlass 19:00 Uhr\n**Alle Bilder: © Kilian Seiler\n*** Ticketpreise zzgl. 1 € System-Gebühren von Reservix
URL:https://veranstaltung.krefeld651.de/event/fliegende-haie-neuer-termin-mein-ego-sagt-ich-kann-das-sharp-electro-pop/
LOCATION:Südbahnhof\, Saumstr.9\, Krefeld\, NRW\, 47805\, Deutschland
CATEGORIES:Bildung,Comedy,Tanz
ATTACH;FMTTYPE=image/png:https://veranstaltung.krefeld651.de/wp-content/uploads/2025/11/FLIEGENDE-HAIE-Schwarzer-Hintergrund-Quer-scaled.png
ORGANIZER;CN="Werkhaus e.V.":MAILTO:info@werkhaus-krefeld.de
END:VEVENT
END:VCALENDAR