BEGIN:VCALENDAR
VERSION:2.0
PRODID:-//Veranstaltungen Krefeld - ECPv6.6.0.2//NONSGML v1.0//EN
CALSCALE:GREGORIAN
METHOD:PUBLISH
X-WR-CALNAME:Veranstaltungen Krefeld
X-ORIGINAL-URL:https://veranstaltung.krefeld651.de
X-WR-CALDESC:Veranstaltungen für Veranstaltungen Krefeld
REFRESH-INTERVAL;VALUE=DURATION:PT1H
X-Robots-Tag:noindex
X-PUBLISHED-TTL:PT1H
BEGIN:VTIMEZONE
TZID:Europe/Berlin
BEGIN:DAYLIGHT
TZOFFSETFROM:+0100
TZOFFSETTO:+0200
TZNAME:CEST
DTSTART:20250330T010000
END:DAYLIGHT
BEGIN:STANDARD
TZOFFSETFROM:+0200
TZOFFSETTO:+0100
TZNAME:CET
DTSTART:20251026T010000
END:STANDARD
END:VTIMEZONE
BEGIN:VEVENT
DTSTART;TZID=Europe/Berlin:20251230T160000
DTEND;TZID=Europe/Berlin:20251230T170000
DTSTAMP:20260424T130413
CREATED:20251124T095026Z
LAST-MODIFIED:20251124T095026Z
UID:10006900-1767110400-1767114000@veranstaltung.krefeld651.de
SUMMARY:Papiertheater - "Schwein gehabt"
DESCRIPTION:Schwein gehabt  \n(ca. 50 min inklusive einer Bastel-Aktion zum mitmachen) \nEin Hausschwein hat sich im Wald verlaufen und unter Wildschweinen ist es ein Ausländer. Für Kinder ab 4. Jahren und deren Eltern\, Großeltern\, Tanten und Onkel. Bühne von Tatiana von Stülpnagel.
URL:https://veranstaltung.krefeld651.de/event/papiertheater-schwein-gehabt/
LOCATION:Pater Julius Haus\, Hülser Str. 576\, Krefeld\, NRW\, 47803\, Deutschland
CATEGORIES:Für Kinder,Theater
ATTACH;FMTTYPE=image/jpeg:https://veranstaltung.krefeld651.de/wp-content/uploads/2025/11/IMG_8485.jpg
ORGANIZER;CN="Lukasz Ratajczak":MAILTO:papiertheaterkrefeld2018@gmail.com
END:VEVENT
BEGIN:VEVENT
DTSTART;TZID=Europe/Berlin:20251230T190000
DTEND;TZID=Europe/Berlin:20251230T203000
DTSTAMP:20260424T130413
CREATED:20251124T095345Z
LAST-MODIFIED:20251124T095345Z
UID:10006896-1767121200-1767126600@veranstaltung.krefeld651.de
SUMMARY:Papiertheater "Es weihnachtet -Pastoralka"
DESCRIPTION:We weihnachtet – Pastoralka \nIn der Hölle ist die Hölle los: Gott hat wieder mal etwas Neues ausgedacht. Nicht genug\, dass er den Menschen alle Sünden verziehen hat\, jetzt schickt er seinen eigenen Sohn auf die Erde\, damit er wie ein Mensch lebt. Gott lässt einfach nicht locker!!! \nDie Pastoralka ist eine Geschichte zwischen Himmel und Hölle mit Erde und Menschen im Mittelpunkt. Eine Weihnachtsgeschichte so wie man sie in Polen zu erzählen pflegt.\nBühne von Tatiana von Stülpnagel
URL:https://veranstaltung.krefeld651.de/event/papiertheater-es-weihnachtet-pastoralka/2025-12-30/
LOCATION:Pater Julius Haus\, Hülser Str. 576\, Krefeld\, NRW\, 47803\, Deutschland
CATEGORIES:Theater
ATTACH;FMTTYPE=image/jpeg:https://veranstaltung.krefeld651.de/wp-content/uploads/2025/11/IMG_4513-2-2.jpeg
ORGANIZER;CN="Lukasz Ratajczak":MAILTO:papiertheaterkrefeld2018@gmail.com
END:VEVENT
END:VCALENDAR