BEGIN:VCALENDAR
VERSION:2.0
PRODID:-//Veranstaltungen Krefeld - ECPv6.6.0.2//NONSGML v1.0//EN
CALSCALE:GREGORIAN
METHOD:PUBLISH
X-WR-CALNAME:Veranstaltungen Krefeld
X-ORIGINAL-URL:https://veranstaltung.krefeld651.de
X-WR-CALDESC:Veranstaltungen für Veranstaltungen Krefeld
REFRESH-INTERVAL;VALUE=DURATION:PT1H
X-Robots-Tag:noindex
X-PUBLISHED-TTL:PT1H
BEGIN:VTIMEZONE
TZID:Europe/Berlin
BEGIN:DAYLIGHT
TZOFFSETFROM:+0100
TZOFFSETTO:+0200
TZNAME:CEST
DTSTART:20260329T010000
END:DAYLIGHT
BEGIN:STANDARD
TZOFFSETFROM:+0200
TZOFFSETTO:+0100
TZNAME:CET
DTSTART:20261025T010000
END:STANDARD
END:VTIMEZONE
BEGIN:VEVENT
DTSTART;TZID=Europe/Berlin:20260131T100000
DTEND;TZID=Europe/Berlin:20260131T200000
DTSTAMP:20260422T201126
CREATED:20251211T133548Z
LAST-MODIFIED:20251211T133548Z
UID:10007363-1769853600-1769889600@veranstaltung.krefeld651.de
SUMMARY:Alpaka\, Esel oder Ziege - Begegnungen und Wanderungen im Fischelner Bruch
DESCRIPTION:Wir bieten vornehmlich an Wochenenden (während der dunklen Jahreszeit) Wanderungen mit unseren Alpakas\, Esel und Ziegen an. Begegnungen sind auch unter der Woche nachmittags und bei schlechtem Wetter möglich. \nPassend zu Weihnachten bieten wir auch für die liebsten Geschenkgutscheine für eine Wanderung oder Auszeit an. Wanderungen dauern in der Regel etwa 2 Stunden und eine Auszeit ca. 1\,5 Stunden. Weitere Informationen auf unserer Homepage www.die-patzke-farm.de \n  \nAlpakas oder Esel                \n\nWanderung: 40€ Pro Führer und 25€ für eine Begleitperson\nAuszeit: 35€ Pro Person\n\nZiegen    \n\nWanderung: 25€ pro Führer und 12€ für eine Begleitperson\nAuszeit: 35€ bis zu 4 Personen
URL:https://veranstaltung.krefeld651.de/event/alpaka-esel-oder-ziege-begegnungen-und-wanderungen-im-fischelner-bruch-2/2026-01-31/
LOCATION:Die Patzke Farm\, Oberbruchstr.167\, 167\, Krefeld\, NRW\, 47807\, Deutschland
CATEGORIES:Führung,Für Kinder
ATTACH;FMTTYPE=image/png:https://veranstaltung.krefeld651.de/wp-content/uploads/2025/12/Logo.png
ORGANIZER;CN="Frank Patzke":MAILTO:frank.patzke@die-patzke-farm.de
END:VEVENT
BEGIN:VEVENT
DTSTART;TZID=Europe/Berlin:20260131T200000
DTEND;TZID=Europe/Berlin:20260131T220000
DTSTAMP:20260422T201126
CREATED:20251216T081758Z
LAST-MODIFIED:20251216T081758Z
UID:10007881-1769889600-1769896800@veranstaltung.krefeld651.de
SUMMARY:Stefan Schöttler - arschvollglück
DESCRIPTION:Stefan Schöttler ist Comedian und einer der heißesten Newcomer in Deutschland und ein absoluter Geheimtipp! \nFür ihn als ehemaligen Schwergewichtsboxer waren in seiner Jugend Bud Spencer\, Arnold Schwarzenegger und die Queen noch echte Kerle! \nAm 14.05.1979 um 7:20 Uhr erblickte er in Dortmund das Licht der Welt. Obwohl\, ob Licht an war\, weiß er nicht mehr. \nAls Kind des Ruhrpotts packt er die Kuriositäten unserer Zeit beim Schopfe und präsentiert sie mit einem Augenzwinkern\, das selbst die ernsten Themen leichtfüßig tanzen lässt. \nSeine Markenzeichen: Ironie und Übertreibung mit Herz und Verstand. Er zeigt seinen Zuhörer:Innen\, dass die heutigen Veränderungen auch nicht viel schlimmer sind\, als ein regelmäßiger Besuch beim Urologen und sorgt damit für ein gutes Gefühl mit Happy End. \nMit viel Humor und Lebensfreude begeistert er sein Publikum. \n  \nStefan nimmt sein Publikum mit auf die Reise zu den wirklich wichtigen Fragen des Lebens: \nWar es früher wirklich besser? \nIst Kaffee ohne Cognac am Morgen überhaupt genießbar? \nWas machste mit ’nem Porsche in der 30er Zone\, wenn Du 40 bist? \nReicht uns schon ein Bausparer zum Glücklichsein?…und wo is überhaupt der Scheißvertrag? \nDie Frage „Was will ich wirklich im Leben und was macht mich existentiell glücklich?“ hat ihn lange beschäftigt. Was Stefan wirklich will\, ist vor allem eines: seinen Zuschauern ein herzhaftes und unbeschwertes Lachen ins Gesicht zaubern! \nOder doch nen Bier und ’ne Bifi von der Tanke!? \n  \nWir freuen uns riesig\, dass Stefan bei uns zu Gast ist\, und wünschen Euch einen wunderschönen Abend! \nVorverkauf 24\,90 € \n*Einlass 19:00 Uhr\n** Parken auf dem Parkplatz gegenüber für Veranstaltungen möglich \n  \n\nDies ist eine Veranstaltung unseres Kooperationspartners a.s.s. concerts.\nDer Vorverkauf für diese Veranstaltung ist nicht im Werkhaus oder im Südbahnhof möglich\, sondern nur über den Ticket-Link auf dieser Seite oder bei regulären Vorverkaufsstellen. Leider können wir auch keine Kartenreservierungen entgegen nehmen.
URL:https://veranstaltung.krefeld651.de/event/stefan-schoettler-arschvollglueck/
LOCATION:Südbahnhof\, Saumstr. 9\, Krefeld\, NRW\, 47805\, Deutschland
CATEGORIES:Bildung,Comedy,Kabarett
ATTACH;FMTTYPE=image/png:https://veranstaltung.krefeld651.de/wp-content/uploads/2025/12/Stefan-Schoettler-arschvollglueck-Quer-scaled.png
ORGANIZER;CN="Werkhaus e.V.":MAILTO:info@werkhaus-krefeld.de
END:VEVENT
END:VCALENDAR