BEGIN:VCALENDAR
VERSION:2.0
PRODID:-//Veranstaltungen Krefeld - ECPv6.6.0.2//NONSGML v1.0//EN
CALSCALE:GREGORIAN
METHOD:PUBLISH
X-WR-CALNAME:Veranstaltungen Krefeld
X-ORIGINAL-URL:https://veranstaltung.krefeld651.de
X-WR-CALDESC:Veranstaltungen für Veranstaltungen Krefeld
REFRESH-INTERVAL;VALUE=DURATION:PT1H
X-Robots-Tag:noindex
X-PUBLISHED-TTL:PT1H
BEGIN:VTIMEZONE
TZID:Europe/Berlin
BEGIN:DAYLIGHT
TZOFFSETFROM:+0100
TZOFFSETTO:+0200
TZNAME:CEST
DTSTART:20260329T010000
END:DAYLIGHT
BEGIN:STANDARD
TZOFFSETFROM:+0200
TZOFFSETTO:+0100
TZNAME:CET
DTSTART:20261025T010000
END:STANDARD
END:VTIMEZONE
BEGIN:VEVENT
DTSTART;TZID=Europe/Berlin:20260204T180000
DTEND;TZID=Europe/Berlin:20260204T193000
DTSTAMP:20260424T114056
CREATED:20250225T151125Z
LAST-MODIFIED:20260204T211306Z
UID:10004068-1770228000-1770233400@veranstaltung.krefeld651.de
SUMMARY:Führung durch das historische Klärwerk in Krefeld Uerdingen in Zusammenarbeit mit der VHS
DESCRIPTION:/  			\n			\n							 \n\n\nFührung reservieren bei der VHS Krefeld\n\n\n\n\n\n\n						\n							Zum Kalender hinzufügen						 \n\n\n\n									\n										Google Kalender									\n								\n\n									\n										iCalendar									\n								\n\n									\n										Outlook 365									\n								\n\n									\n										Outlook Live									\n								\n\n \n \n \n \n\n\n\n					Details\n	\n\n\n				Datum:\n				\n					  \n				\n			\n\n				Zeit:
URL:https://veranstaltung.krefeld651.de/event/fuehrung-durch-das-historische-klaerwerk-32/
LOCATION:Industriedenkmal historisches Klärwerk\, Rundweg 20-22\, Krefeld Uerdingen\, Nordrhein-Westfalen\, 47829\, Deutschland
CATEGORIES:Führungen durch das Klärwerk
ATTACH;FMTTYPE=image/jpeg:https://veranstaltung.krefeld651.de/wp-content/uploads/2024/04/fuehrungen-2048x1494-1-1-vfJs3I.tmp_.jpg
END:VEVENT
END:VCALENDAR