BEGIN:VCALENDAR
VERSION:2.0
PRODID:-//Veranstaltungen Krefeld - ECPv6.6.0.2//NONSGML v1.0//EN
CALSCALE:GREGORIAN
METHOD:PUBLISH
X-ORIGINAL-URL:https://veranstaltung.krefeld651.de
X-WR-CALDESC:Veranstaltungen für Veranstaltungen Krefeld
REFRESH-INTERVAL;VALUE=DURATION:PT1H
X-Robots-Tag:noindex
X-PUBLISHED-TTL:PT1H
BEGIN:VTIMEZONE
TZID:Europe/Berlin
BEGIN:DAYLIGHT
TZOFFSETFROM:+0100
TZOFFSETTO:+0200
TZNAME:CEST
DTSTART:20260329T010000
END:DAYLIGHT
BEGIN:STANDARD
TZOFFSETFROM:+0200
TZOFFSETTO:+0100
TZNAME:CET
DTSTART:20261025T010000
END:STANDARD
END:VTIMEZONE
BEGIN:VEVENT
DTSTART;TZID=Europe/Berlin:20260430T193000
DTEND;TZID=Europe/Berlin:20260430T220000
DTSTAMP:20260419T152738
CREATED:20260331T014253Z
LAST-MODIFIED:20260419T051600Z
UID:10008266-1777577400-1777586400@veranstaltung.krefeld651.de
SUMMARY:INTERNATIONAL JAZZ DAY – DOPPELKONZERT
DESCRIPTION:30. April INTERNATIONAL JAZZ DAY – DOPPELKONZERT \n  \n \nJazz steht für Toleranz\, Demokratie und Gleichberechtigung. Jazz verbindet Menschen über alle kulturellen Grenzen hinweg. Jazz ist die universelle Sprache für Freiheit\, Individualität und Vielfalt. Das Doppelkonzert auf Burg Linn\, Krefeld ist ein Teil davon. Die UNESCO hat auf Betreiben des Herbie Hancock Institute of Jazz den 30. April zum International Jazz Day ausgerufen\, um diese Rolle des Jazz hervorzuheben. Weltweit finden an diesem Tag hunderte von Konzerten statt. Seit 2013 ist der Jazzklub Krefeld mit seinem Doppelkonzert auf der Burg Linn daran beteiligt. Schirmherr der Veranstaltung ist Oberbürgermeister Frank Meyer. \n  \nCRAIG TABORN & METTE RASMUSSEN (ca 21:00 Uhr)\n \nFotomontage © Peter Schmitz\, eis-diele.de\nCRAIG TABORN piano\nMETTE RASMUSSEN saxophone \n  \nDas außergewöhnliche Zusammentreffen zweier kompromissloser Stimmen der improvisierten Musik: Der US-amerikanische Pianist Craig Taborn\, weithin gefeiert als einer der visionärsten Tastenvirtuosen seiner Generation\, trifft auf die dänische Saxophonistin Mette Rasmussen\, eine der radikal eigenständigsten Stimmen der europäischen Free-Jazz-Szene. \nCraig Taborn gilt als einer der innovativsten Pianisten seiner Generation. Seine musikalische Bandbreite reicht vom Avantgarde-Jazz über elektronische Musik bis hin zu Dark Ambient. Seine Improvisationen bewegen sich mühelos zwischen lyrischer Intimität und explosiver Energie\, zwischen akribisch konstruierten Klangarchitekturen und spontaner Dekonstruktion. \nMette Rasmussen gilt als explosive Kraft in der internationalen Szene freier Improvisationsmusik. Sie schöpft aus einer Vielzahl von Einflüssen\, die von Free Jazz bis hin zu texturalen Klangarbeiten reichen. Rasmussen arbeitet daran\, die natürliche Rohheit ihres Instruments zu erforschen – sie experimentiert damit\, wozu das Saxophon in Klang und Ausdruck fähig ist – und dies tut sie in vielen Formationen. Mit dem Quartett ØKSE gewann sie 2025 den Deutschen Jazzpreis für das beste internationale Album. \nTaborn und Rasmussen kennen sich gut. Zusammen mit dem Schlagzeuger Ches Smith bilden sie seit einigen Jahren das gefeierte Jazz-Trio Weird of Mouth\, mit dem sie in 2025 erfolgreich in Deutschland unterwegs waren. \n  \n  \nMIKE PARKER TRIO \nFoto © Tomasz Kowalczuk\nMIKE PARKER double bass\nWOJCIECH LICHTAŃSKI alto saxophone\nMAKSYMILIAN OLSZEWSKI drums \n  \nDas Mike Parker Trio ist ein neues Projekt des gebürtigen New Yorker Bassisten und Komponisten. Parkers Musik wurde vom JazzPRESS-Magazin beschrieben als „eine brillante Symbiose aller Musikgenres… Es ist alles\, was Jazz sein sollte: originell\, frisch\, unvorhersehbar\, symbiotisch in der Gruppenimprovisation und das alles mit einem Sinn für Humor“. Der mittlerweile in Krakau lebende Mike Parker gewann mehrere internationale Wettbewerbe und Auszeichnungen\, studierte bei einigen der größten lebenden Musiker und spielte mit ihnen zusammen. An seiner Seite stehen zwei Instrumentalisten\, die mit verschiedenen Formationen bereits in vielen Ländern Europas konzertierten: Wojciech Lichtański ist einer der talentiertesten polnischen Altsaxophonisten der jungen Generation\, der mit seinem ausgereiften Spiel\, seinem ausgefeilten Klang und seiner professionellen Technik begeistert. Maksymilian Olszewski ist ein preisgekrönter Schlagzeuger und Mitgründer mehrerer Bands. \n  \nEinlass ab 19 Uhr. \n  \nEINTRITT: 33 € / ERM.* & JKK 22 €\n*Ermässigt für U27 in Ausbildung oder Inhaber Krefeld-Pass. \nDer Vorverkauf startet am 01. März 2026 \nTICKETS gibt es online im JKK Ticketshop bei TicketPay\nUnd in Krefeld bei Der Andere Buchladen\, Dionysiusstraße 7\, Krefeld \n 
URL:https://veranstaltung.krefeld651.de/event/international-jazz-day-doppelkonzert-3/
LOCATION:Rittersaal der Burg Linn\, Rheinbabenstraße 85\, Krefeld\, 47809
END:VEVENT
BEGIN:VEVENT
DTSTART;TZID=Europe/Berlin:20260430T200000
DTEND;TZID=Europe/Berlin:20260501T020000
DTSTAMP:20260419T152738
CREATED:20260401T014300Z
LAST-MODIFIED:20260419T054622Z
UID:10008267-1777579200-1777600800@veranstaltung.krefeld651.de
SUMMARY:Tanz in den Mai: kläryourheadoff. Open your mind. dance!
DESCRIPTION:/  			\n			\n							 \n\nEin gepflegter DJ-Tanzabend in einer der ältesten Kläranlagen der Welt\, das hört sich doch ganz nach Berlin\, Paris oder gar London an. Nichts da\, nur Krefeld hat es: Die zauberhafte Klärhalle\, in der sich einst die Ausgüsse der ganzen Stadt sammelten\, erklingt in lockeren Beats. Dj Heinz meets Klärwerk und lädt zum Tanz in den Mai ein.  \nSpecial guest: \nMalik D\nist deutsch-senegalesischer Sportstudent mit einer Leidenschaft für energiegeladene elektronische Sounds und Dancehall-Vibes. Hauptsache Rhythmus und Melodie – von Dancehall bis Disco.  \nDJ Heinz\nJourney through the night : Afro\, Soul\, Reggae\, Rock und hypnotische Techno Melodien. \n\n\n\nFörderverein des historischen Klärwerks Krefeld  e.V.\n \nVeranstalter-Website anzeigen \n \n\n\n\n\n\n\n						\n							Zum Kalender hinzufügen						 \n\n\n\n									\n										Google Kalender									\n								\n\n									\n										iCalendar									\n								\n\n									\n										Outlook 365									\n								\n\n									\n										Outlook Live									\n								\n\n \n \n \n \n{“tvn1″:”6391d5c7ee”\,”tvn2″:””}\n\n\nFörderverein des historischen Klärwerks Krefeld  e.V.\n \nVeranstalter-Website anzeigen
URL:https://veranstaltung.krefeld651.de/event/tanz-in-den-mai-klaeryourheadoff-open-your-mind-dance/
LOCATION:Industriedenkmal historisches Klärwerk\, Rundweg 20-22\, Krefeld Uerdingen\, Nordrhein-Westfalen\, 47829\, Deutschland
CATEGORIES:Führungen durch das Klärwerk,Konzert,Tanzabend
ATTACH;FMTTYPE=image/jpeg:https://veranstaltung.krefeld651.de/wp-content/uploads/2026/04/ChatGPT-Image-23.-Feb.-2026-13_07_55-zBztXI.jpg
END:VEVENT
END:VCALENDAR