BEGIN:VCALENDAR
VERSION:2.0
PRODID:-//Veranstaltungen Krefeld - ECPv6.6.0.2//NONSGML v1.0//EN
CALSCALE:GREGORIAN
METHOD:PUBLISH
X-ORIGINAL-URL:https://veranstaltung.krefeld651.de
X-WR-CALDESC:Veranstaltungen für Veranstaltungen Krefeld
REFRESH-INTERVAL;VALUE=DURATION:PT1H
X-Robots-Tag:noindex
X-PUBLISHED-TTL:PT1H
BEGIN:VTIMEZONE
TZID:Europe/Berlin
BEGIN:DAYLIGHT
TZOFFSETFROM:+0100
TZOFFSETTO:+0200
TZNAME:CEST
DTSTART:20260329T010000
END:DAYLIGHT
BEGIN:STANDARD
TZOFFSETFROM:+0200
TZOFFSETTO:+0100
TZNAME:CET
DTSTART:20261025T010000
END:STANDARD
END:VTIMEZONE
BEGIN:VEVENT
DTSTART;TZID=Europe/Berlin:20260523T110000
DTEND;TZID=Europe/Berlin:20260523T160000
DTSTAMP:20260425T130533
CREATED:20260423T014602Z
LAST-MODIFIED:20260425T083914Z
UID:10008286-1779534000-1779552000@veranstaltung.krefeld651.de
SUMMARY:Von Höhen und Tiefen – Ein genreübergreifendes Kunstprojekt zur Geschichte Krefelds
DESCRIPTION:/  			\n			\n							 \n\nNils Mosh (Klangkünstler) und Willi Reiche (Kinetikkünstler) \n„Von Höhen und Tiefen“ ist ein zweigleisiges Ausstellungsprojekt\, das in neuartiger Zusammenarbeit aus Klangkunst (Nils Mosh\, Essen\, Klangkünstler und Field Recordist) und beweglichen Installationen (Willi Reiche\, Wachtberg\, Kinetikkünstler) zwei industriekulturelle Denkmäler thematisch verbindet: Das Klärwerk Uerdingen und das Haus der Seidenkultur. In einem außergewöhnlichen Zusammenspiel aus Klangkunst\, Mechanik und Anspielungen auf die Geschichte der Stadt Krefeld spricht die immersive Ausstellung alle Sinne an. Vergangenheit und Gegenwart verschmelzen zu einem sichtbaren\, hörbaren und erfahrbaren Erlebnis. \nDas Projekt wird gefördert vom vom LVR-Dezernat Kultur @lvr_kultur \nWeitere Informationen unter: www.vhut.info \n\n		\n\n\nVon Höhen und Tiefen\n \nVeranstalter-Website anzeigen \n \n\n\n\n\n\n\n						\n							Zum Kalender hinzufügen						 \n\n\n\n									\n										Google Kalender									\n								\n\n									\n										iCalendar									\n								\n\n									\n										Outlook 365									\n								\n\n									\n										Outlook Live
URL:https://veranstaltung.krefeld651.de/event/von-hoehen-und-tiefen-ein-genreuebergreifendes-kunstprojekt-zur-geschichte-krefelds-3/
LOCATION:Industriedenkmal historisches Klärwerk\, Rundweg 20-22\, Krefeld Uerdingen\, Nordrhein-Westfalen\, 47829\, Deutschland
CATEGORIES:Ausstellung,Führungen durch das Klärwerk
ATTACH;FMTTYPE=image/jpeg:https://veranstaltung.krefeld651.de/wp-content/uploads/2026/04/DIN-lang-quer_1200x600px-2-2-QOFvBR.jpg
END:VEVENT
BEGIN:VEVENT
DTSTART;TZID=Europe/Berlin:20260523T200000
DTEND;TZID=Europe/Berlin:20260524T020000
DTSTAMP:20260425T130533
CREATED:20260424T014610Z
LAST-MODIFIED:20260425T083914Z
UID:10008287-1779566400-1779588000@veranstaltung.krefeld651.de
SUMMARY:ProImPro 8.0 – MIXed-Reality
DESCRIPTION:/  			\n			\n							 \n\nheißt diesmal unser Motto: Wir – die Klärwerker vom Förderverein zum Erhalt des historischen Klärwerks e.V. machen mit unserer 8ten Vereins-Club-Party-Reihe weiter;. \nDafür holen wir uns erstmals Verstärkung aus Köln! Am Set: „Housemeister“ Frank John aka „BrokenDJ“ aus Köln (Vocal House & Mainstream) and „ProImpro-DJ“ Jörg\, Soundmaster of the Klär-Kathedrale mit „queer Beat for 80’s\, 90’s\, 00s and 10s“ \nMIXed_reality heißt bei der 8.0 aber auch:Lebt Euch aus\, kommt im Space-\, oder im bunten Frühlings-Look\, im Farbrausch\, kommt mit Blumen\, sei es im Haar\, so im Hippie-Outfit mit bunten Klamotten wie weiten Trompeten-Ärmel\, mit extented Schulterpolstern\, Schlaghosen und/oder mit hohen Plateau-Schuhen oder Sandalen…ja\, alles geht\, alles ist gut und alles ist wunderbar schön\, eben MIXed-Reality:-) \nDas Team der Klärbar wird für dafür passende Cocktails reichen\, aber auch leckere Weine und Biere sind variantenreich für Euch \nAlso bringt mit: coole\, „spacige“ Klamotten und nervöse „Tanz-Beine“. \nEinlass erfolgt ab 19Uhr. Der Eintritt beträgt 12 Euro im VVK \n\n				VVK\n	\n\n\nFörderverein des historischen Klärwerks Krefeld  e.V.\n \nVeranstalter-Website anzeigen \n \n\n\n\n\n\n\n						\n							Zum Kalender hinzufügen						 \n\n\n\n									\n										Google Kalender									\n								\n\n									\n										iCalendar									\n								\n\n									\n										Outlook 365									\n								\n\n									\n										Outlook Live
URL:https://veranstaltung.krefeld651.de/event/proimpro-8-0-mixed-reality/
LOCATION:Industriedenkmal historisches Klärwerk\, Rundweg 20-22\, Krefeld Uerdingen\, Nordrhein-Westfalen\, 47829\, Deutschland
CATEGORIES:Führungen durch das Klärwerk,Konzert,Rave,Tanzabend
ATTACH;FMTTYPE=image/jpeg:https://veranstaltung.krefeld651.de/wp-content/uploads/2026/04/proimpro8-2-3pgfpR.jpg
END:VEVENT
END:VCALENDAR