BEGIN:VCALENDAR
VERSION:2.0
PRODID:-//Veranstaltungen Krefeld - ECPv6.6.0.2//NONSGML v1.0//EN
CALSCALE:GREGORIAN
METHOD:PUBLISH
X-ORIGINAL-URL:https://veranstaltung.krefeld651.de
X-WR-CALDESC:Veranstaltungen für Veranstaltungen Krefeld
REFRESH-INTERVAL;VALUE=DURATION:PT1H
X-Robots-Tag:noindex
X-PUBLISHED-TTL:PT1H
BEGIN:VTIMEZONE
TZID:Europe/Berlin
BEGIN:DAYLIGHT
TZOFFSETFROM:+0100
TZOFFSETTO:+0200
TZNAME:CEST
DTSTART:20260329T010000
END:DAYLIGHT
BEGIN:STANDARD
TZOFFSETFROM:+0200
TZOFFSETTO:+0100
TZNAME:CET
DTSTART:20261025T010000
END:STANDARD
END:VTIMEZONE
BEGIN:VEVENT
DTSTART;TZID=Europe/Berlin:20261004T130000
DTEND;TZID=Europe/Berlin:20261004T180000
DTSTAMP:20260423T140758
CREATED:20251217T143250Z
LAST-MODIFIED:20251217T143250Z
UID:10007893-1791118800-1791136800@veranstaltung.krefeld651.de
SUMMARY:Erntedank
DESCRIPTION:Am Sonntag\, den 4. Oktober 2026\, verwandelt sich die Krefelder Innenstadt von 13 bis 18 Uhr erneut in ein stimmungsvolles Erlebnisareal voller Musik\, Genuss und Begegnung. Die Werbegemeinschaft lädt zum “Erntedank” ein – einem verkaufsoffenen Sonntag\, der Tradition\, Atmosphäre und modernes Stadtleben auf besondere Weise verbindet.  \nFreuen Sie sich auf einen abwechslungsreichen Tag: Besucher können durch die geschmückten Straßen bummeln\, sich von Live-Musik\, kulinarischen Genüssen und liebevoll gestalteten Marktständen inspirieren lassen. Zahlreiche Aktionsorte bieten Gelegenheit\, Neues zu entdecken\, handverlesene Produkte zu bestaunen und das bunte Treiben der Stadt zu genießen. 
URL:https://veranstaltung.krefeld651.de/event/erntedank/
LOCATION:Krefelder Innenstadt\, Krefelder Innenstadt\, Krefeld\, NRW\, 47798\, Deutschland
CATEGORIES:Essen&Trinken,Für Kinder,Markt,Wanderbühne
ATTACH;FMTTYPE=image/jpeg:https://veranstaltung.krefeld651.de/wp-content/uploads/2025/12/Bild-Erntedank-1-scaled.jpg
ORGANIZER;CN="Werbegemeinschaft Krefeld":MAILTO:info@werbegemeinschaft-kr.de
END:VEVENT
END:VCALENDAR