BEGIN:VCALENDAR
VERSION:2.0
PRODID:-//Veranstaltungen Krefeld - ECPv6.6.0.2//NONSGML v1.0//EN
CALSCALE:GREGORIAN
METHOD:PUBLISH
X-WR-CALNAME:Veranstaltungen Krefeld
X-ORIGINAL-URL:https://veranstaltung.krefeld651.de
X-WR-CALDESC:Veranstaltungen für Veranstaltungen Krefeld
REFRESH-INTERVAL;VALUE=DURATION:PT1H
X-Robots-Tag:noindex
X-PUBLISHED-TTL:PT1H
BEGIN:VTIMEZONE
TZID:Europe/Berlin
BEGIN:DAYLIGHT
TZOFFSETFROM:+0100
TZOFFSETTO:+0200
TZNAME:CEST
DTSTART:20260329T010000
END:DAYLIGHT
BEGIN:STANDARD
TZOFFSETFROM:+0200
TZOFFSETTO:+0100
TZNAME:CET
DTSTART:20261025T010000
END:STANDARD
END:VTIMEZONE
BEGIN:VEVENT
DTSTART;TZID=Europe/Berlin:20260426T110000
DTEND;TZID=Europe/Berlin:20260426T180000
DTSTAMP:20260425T145059
CREATED:20260327T012800Z
LAST-MODIFIED:20260425T083913Z
UID:10008265-1777201200-1777226400@veranstaltung.krefeld651.de
SUMMARY:Krefelder Atelier-Ausstellung
DESCRIPTION:/  			\n			\n							 \n\nDie nächste Krefelder Atelier-Ausstellung lädt am 19. und 26. April 2026 zum nächsten Rundgang zu Krefelder Kunst ein. \nZwischen 11 und 18 Uhr öffnen diesmal mehr als 20 Künstlerinnen und Künstler an zehn verschiedenen Orten die Türen ihrer Ateliers\, Werk- und sonstiger Kulturstätten und gewähren so einen Einblick in ihre Arbeit aus den Bereichen Malerei\, Bildhauerei\, Design\, Schmuck\, Textil u.v.m. \nEs nehmen teil:\n\nAtelier am Dyk (Grönkesdyk 9)\n\n\nSchauraum (Seilbahn 40)\n\n\nKlärwerk (Rundweg 20-22)\n\n\nTubuku (Großmarkt/ Oppumer Str. 175)\n\n\nHaus der Seidenkultur (Luisenstr. 15)\n\n\nFreiraum (Ostwall 64-66)\n\n\nSchmuckwerkstatt (Wiedenhofstr. 58)\n\n\nTextilkunst (Wallstr. 14)\n\n\nDas Fenster (Tannenstr. 147)\n\n\nFabrik Heeder (Virchowstr. 130)\n\nDetaillierte Infos unter:\nkrefelder-atelier-ausstellung.de \n\n		\n\n\n\nkrefelder atelier ausstellung\n \nVeranstalter-Website anzeigen \n \n\n\n\n\n\n						\n							Zum Kalender hinzufügen						 \n\n\n\n									\n										Google Kalender									\n								\n\n									\n										iCalendar									\n								\n\n									\n										Outlook 365									\n								\n\n									\n										Outlook Live
URL:https://veranstaltung.krefeld651.de/event/krefelder-atelier-ausstellung-8/
LOCATION:Industriedenkmal historisches Klärwerk\, Rundweg 20-22\, Krefeld Uerdingen\, Nordrhein-Westfalen\, 47829\, Deutschland
CATEGORIES:Ausstellung,Führungen durch das Klärwerk
ATTACH;FMTTYPE=image/jpeg:https://veranstaltung.krefeld651.de/wp-content/uploads/2026/03/Atelier-Ausstellung-2-qZLb0V.jpg
END:VEVENT
END:VCALENDAR